BEGIN:VCALENDAR
VERSION:2.0
PRODID:-//GeoForum - ECPv6.10.0//NONSGML v1.0//EN
CALSCALE:GREGORIAN
METHOD:PUBLISH
X-ORIGINAL-URL:https://geoforum.no
X-WR-CALDESC:Arrangement for GeoForum
REFRESH-INTERVAL;VALUE=DURATION:PT1H
X-Robots-Tag:noindex
X-PUBLISHED-TTL:PT1H
BEGIN:VTIMEZONE
TZID:Europe/Oslo
BEGIN:DAYLIGHT
TZOFFSETFROM:+0100
TZOFFSETTO:+0200
TZNAME:CEST
DTSTART:20220327T010000
END:DAYLIGHT
BEGIN:STANDARD
TZOFFSETFROM:+0200
TZOFFSETTO:+0100
TZNAME:CET
DTSTART:20221030T010000
END:STANDARD
END:VTIMEZONE
BEGIN:VEVENT
DTSTART;TZID=Europe/Oslo:20221115T090000
DTEND;TZID=Europe/Oslo:20221115T153000
DTSTAMP:20260419T235308
CREATED:20220926T075158Z
LAST-MODIFIED:20220927T075811Z
UID:10011535-1668502800-1668526200@geoforum.no
SUMMARY:Fagdag Plan- og bygningsrett\, Kristiansand 2022
DESCRIPTION:GeoForum Sørlandet inviterer til fagdag innen plan- og bygningsrett 15. november i Kristiansand \nSted: Clarion Hotel Ernst \, Kristiansand​ \nForedragsholder Fredrik Holth\, dosent ved Institutt for eiendom og juss ved NMBU. Medeier i Holth & Wise sammen med Nikolai K. Winge – begge med et brennende engasjement for plan- og bygningsrett. www.holthogwinge.no \n  \nTema: \n\nSammenheng mellom plan- og bygningsloven og forvaltningsloven.\nTolkning av reguleringsplaner​\nSøknadsplikten i plan- og bygningsloven\nDypdykk i hva er en grensejustering er og hva er en arealoverføring i rettslig forstand?​\n\n  \nProgram \nPåmelding \n  \n 
URL:https://geoforum.no/event/fagdag-plan-og-bygningsrett-kristiansand_2022/
CATEGORIES:Temadag lokalt
ATTACH;FMTTYPE=image/jpeg:https://geoforum.no/wp-content/uploads/2022/09/paragraph-gc3065d9fe_1920.jpg
END:VEVENT
END:VCALENDAR