BEGIN:VCALENDAR
VERSION:2.0
PRODID:-//GeoForum - ECPv6.10.0//NONSGML v1.0//EN
CALSCALE:GREGORIAN
METHOD:PUBLISH
X-WR-CALNAME:GeoForum
X-ORIGINAL-URL:https://geoforum.no
X-WR-CALDESC:Arrangement for GeoForum
REFRESH-INTERVAL;VALUE=DURATION:PT1H
X-Robots-Tag:noindex
X-PUBLISHED-TTL:PT1H
BEGIN:VTIMEZONE
TZID:Europe/Oslo
BEGIN:DAYLIGHT
TZOFFSETFROM:+0100
TZOFFSETTO:+0200
TZNAME:CEST
DTSTART:20210328T010000
END:DAYLIGHT
BEGIN:STANDARD
TZOFFSETFROM:+0200
TZOFFSETTO:+0100
TZNAME:CET
DTSTART:20211031T010000
END:STANDARD
END:VTIMEZONE
BEGIN:VEVENT
DTSTART;TZID=Europe/Oslo:20211117T130000
DTEND;TZID=Europe/Oslo:20211117T180000
DTSTAMP:20260420T182442
CREATED:20211028T103655Z
LAST-MODIFIED:20211115T170537Z
UID:10011486-1637154000-1637172000@geoforum.no
SUMMARY:GIS-dagen i Bergen 2021
DESCRIPTION:GIS-dagen i Bergen er et samarbeid mellom Universitetet i Bergen\, Høgskolen på Vestlandet og GeoForum Hordaland. \nArrangementet gjennomføres på Dragefjellet\, UiB\, Auditorium 1. Registrering mellom 12.30 og 13.00\, før det blir ni presentasjoner fra 13.00 til 17.30. \nProgrammet er klart\, og det blir innlegg om GIS i arkeologi\, byutvikling Nymark\, GIS i transportanalyser\, steinbredetektering vha. OBIA og neural networks med mer! \nEtter siste presentasjon tusler vi ned til Teglverket på Kvarteret hvor det blir quiz og vi tilbyr pizza fra kl 18.00. Her er det også muligheter for å kjøpe drikke i baren. Aldersgrense på Kvarteret er 18 år for studenter med studentbevis og 20 år for andre. \nGIS-dagen_2021_med_program_15.11.21 \nPåmelding \nPåmeldte som ikke deltar blir belastet med 100 kr dersom de ikke er avmeldt innen 14. november. Dette gjelder også studenter. Dette er naturligvis fordi vi må bestille mat noen dager i forveien. Bindende påmelding innen 10. november! \n  \n  \n 
URL:https://geoforum.no/event/gis-dagen-i-bergen-2021/
CATEGORIES:Temadag lokalt
END:VEVENT
END:VCALENDAR