BEGIN:VCALENDAR
VERSION:2.0
PRODID:-//GeoForum - ECPv6.10.0//NONSGML v1.0//EN
CALSCALE:GREGORIAN
METHOD:PUBLISH
X-WR-CALNAME:GeoForum
X-ORIGINAL-URL:https://geoforum.no
X-WR-CALDESC:Arrangement for GeoForum
REFRESH-INTERVAL;VALUE=DURATION:PT1H
X-Robots-Tag:noindex
X-PUBLISHED-TTL:PT1H
BEGIN:VTIMEZONE
TZID:Europe/Oslo
BEGIN:DAYLIGHT
TZOFFSETFROM:+0100
TZOFFSETTO:+0200
TZNAME:CEST
DTSTART:20210328T010000
END:DAYLIGHT
BEGIN:STANDARD
TZOFFSETFROM:+0200
TZOFFSETTO:+0100
TZNAME:CET
DTSTART:20211031T010000
END:STANDARD
END:VTIMEZONE
BEGIN:VEVENT
DTSTART;TZID=Europe/Oslo:20211110T093000
DTEND;TZID=Europe/Oslo:20211110T150000
DTSTAMP:20260420T194426
CREATED:20211006T111623Z
LAST-MODIFIED:20211006T154912Z
UID:10011479-1636536600-1636556400@geoforum.no
SUMMARY:Fagdag om lokale DOK-data
DESCRIPTION:Fagdagen arrangeres av GeoForum Sogn og Fjordane i samarbeid med Plan- og temadatauvalet (SF) og gjennomføres på Thon Hotell Jølster 10.nov. kl. 10:00 –15:00! \nProgram fagdag Skei \nPåmelding
URL:https://geoforum.no/event/fagdag-om-lokale-dok-data/
CATEGORIES:Temadag lokalt
END:VEVENT
END:VCALENDAR