BEGIN:VCALENDAR
VERSION:2.0
PRODID:-//GeoForum - ECPv6.10.0//NONSGML v1.0//EN
CALSCALE:GREGORIAN
METHOD:PUBLISH
X-ORIGINAL-URL:https://geoforum.no
X-WR-CALDESC:Arrangement for GeoForum
REFRESH-INTERVAL;VALUE=DURATION:PT1H
X-Robots-Tag:noindex
X-PUBLISHED-TTL:PT1H
BEGIN:VTIMEZONE
TZID:Europe/Oslo
BEGIN:DAYLIGHT
TZOFFSETFROM:+0100
TZOFFSETTO:+0200
TZNAME:CEST
DTSTART:20200329T010000
END:DAYLIGHT
BEGIN:STANDARD
TZOFFSETFROM:+0200
TZOFFSETTO:+0100
TZNAME:CET
DTSTART:20201025T010000
END:STANDARD
END:VTIMEZONE
BEGIN:VEVENT
DTSTART;TZID=Europe/Oslo:20200204T120000
DTEND;TZID=Europe/Oslo:20200204T173000
DTSTAMP:20260421T222902
CREATED:20200120T083648Z
LAST-MODIFIED:20200120T100454Z
UID:10011402-1580817600-1580837400@geoforum.no
SUMMARY:Temadag og årsmøte 2019 GeoForum Rogaland
DESCRIPTION:GeoForum Rogaland inviterer til temadag 4. februar 2020. \nHer vil du få høre foredrag fra Kartverket om marine grunnkart og dybde- og høydedata . Geograf Digital stiller med foredrag om kartlegging med kreative løsninger. Fagdagen avsluttes kl. 15.00. Årsmøte starter kl. 15.30. \nProgram \nPåmelding \nVi minner om spesielle parkeringsforhold ved Kartverket:\nPå parkeringsplassen vist på side 4\, er det pr 16. januar er det gratis parkering\, men det kan komme et nytt parkeringsselskap innen årsmøtet\, deltakerne vil i så fall bli varslet om det.\nDet er selvsagt også mulig å komme med buss nr. 6\,7 eller X60 – se http://www.kolumbus.no/ruter/buss/ \n 
URL:https://geoforum.no/event/temadag-og-arsmote-2019-geoforum-rogaland/
LOCATION:Kartverket Rogaland\, Professor Olav Hanssens vei 10\, Stavanger
CATEGORIES:Temadag lokalt
GEO:58.9347523;5.702327
X-APPLE-STRUCTURED-LOCATION;VALUE=URI;X-ADDRESS=Kartverket Rogaland Professor Olav Hanssens vei 10 Stavanger;X-APPLE-RADIUS=500;X-TITLE=Professor Olav Hanssens vei 10:geo:5.702327,58.9347523
END:VEVENT
END:VCALENDAR