BEGIN:VCALENDAR
VERSION:2.0
PRODID:-//GeoForum - ECPv6.10.0//NONSGML v1.0//EN
CALSCALE:GREGORIAN
METHOD:PUBLISH
X-WR-CALNAME:GeoForum
X-ORIGINAL-URL:https://geoforum.no
X-WR-CALDESC:Arrangement for GeoForum
REFRESH-INTERVAL;VALUE=DURATION:PT1H
X-Robots-Tag:noindex
X-PUBLISHED-TTL:PT1H
BEGIN:VTIMEZONE
TZID:Europe/Oslo
BEGIN:DAYLIGHT
TZOFFSETFROM:+0100
TZOFFSETTO:+0200
TZNAME:CEST
DTSTART:20190331T010000
END:DAYLIGHT
BEGIN:STANDARD
TZOFFSETFROM:+0200
TZOFFSETTO:+0100
TZNAME:CET
DTSTART:20191027T010000
END:STANDARD
END:VTIMEZONE
BEGIN:VEVENT
DTSTART;TZID=Europe/Oslo:20190529T090000
DTEND;TZID=Europe/Oslo:20190529T150000
DTSTAMP:20260422T070343
CREATED:20190503T082620Z
LAST-MODIFIED:20190503T082948Z
UID:10011346-1559120400-1559142000@geoforum.no
SUMMARY:Fagdag Plan\, byggesak og oppmåling GeoForum Østfold
DESCRIPTION:GeoForum Østfold inviterer til fagdag. \nMålet for fagdagen er å se på kvaliteten i plan- og byggesaksbehandlingen og skape en bedre forståelse for sammenhengen mellom plan- og byggesaksbehandling og eiendomsforhold. \nPris:\nKr 1000\,- for medlemmer i GeoForum eller ansatte hos bedriftsmedlemmer. Et tillegg på kr 500\,- for andre. Prisen inkluderer lunsj og kaffe/te. \nKontaktperson:\nEspen Danevad (esd@sarpsborg.com)\, mob: 99205831 \nPåmeldingsfrist:  24.mai \nPåmelding og program
URL:https://geoforum.no/event/fagdag-plan-byggesak-og-oppmaling-geoforum-ostfold/
LOCATION:Tune rådhus\, Tuneveien 95\, Sarpsborg\, Østfold\, 1712\, Norge
CATEGORIES:Temadag lokalt
END:VEVENT
END:VCALENDAR