BEGIN:VCALENDAR
VERSION:2.0
PRODID:-//GeoForum - ECPv6.10.0//NONSGML v1.0//EN
CALSCALE:GREGORIAN
METHOD:PUBLISH
X-ORIGINAL-URL:https://geoforum.no
X-WR-CALDESC:Arrangement for GeoForum
REFRESH-INTERVAL;VALUE=DURATION:PT1H
X-Robots-Tag:noindex
X-PUBLISHED-TTL:PT1H
BEGIN:VTIMEZONE
TZID:Europe/Oslo
BEGIN:DAYLIGHT
TZOFFSETFROM:+0100
TZOFFSETTO:+0200
TZNAME:CEST
DTSTART:20190331T010000
END:DAYLIGHT
BEGIN:STANDARD
TZOFFSETFROM:+0200
TZOFFSETTO:+0100
TZNAME:CET
DTSTART:20191027T010000
END:STANDARD
END:VTIMEZONE
BEGIN:VEVENT
DTSTART;TZID=Europe/Oslo:20190527T080000
DTEND;TZID=Europe/Oslo:20190527T170000
DTSTAMP:20260422T072527
CREATED:20190408T115135Z
LAST-MODIFIED:20190409T131156Z
UID:10011340-1558944000-1558976400@geoforum.no
SUMMARY:Fagdag - plan\, bygg og oppmåling GeoForum Hedmark og Oppland
DESCRIPTION:I samarbeid med Einar Bergsholm og Fredrik Holth\, NMBU\, arrangerer Geoforum Hedmark og Oppland en fagdag «Plan\, bygg og oppmåling» mandag 27.mai 2019.\nDu inviteres med dette til å delta på en dag med faglig og juridisk påfyll i en ellers travel hverdag. Programmet er først og fremst rettet mot kommunale saksbehandlere og landmålere\, men er også aktuelt for private landmålerforetak. \nProgram \nPåmelding
URL:https://geoforum.no/event/fagdag-plan-bygg-og-oppmaling/
LOCATION:Statens vegvesen Lillehammer\, Industrigata 1\, Lillehammer\, 2619
CATEGORIES:Temadag lokalt
END:VEVENT
END:VCALENDAR