BEGIN:VCALENDAR
VERSION:2.0
PRODID:-//GeoForum - ECPv6.10.0//NONSGML v1.0//EN
CALSCALE:GREGORIAN
METHOD:PUBLISH
X-WR-CALNAME:GeoForum
X-ORIGINAL-URL:https://geoforum.no
X-WR-CALDESC:Arrangement for GeoForum
REFRESH-INTERVAL;VALUE=DURATION:PT1H
X-Robots-Tag:noindex
X-PUBLISHED-TTL:PT1H
BEGIN:VTIMEZONE
TZID:Europe/Oslo
BEGIN:DAYLIGHT
TZOFFSETFROM:+0100
TZOFFSETTO:+0200
TZNAME:CEST
DTSTART:20190331T010000
END:DAYLIGHT
BEGIN:STANDARD
TZOFFSETFROM:+0200
TZOFFSETTO:+0100
TZNAME:CET
DTSTART:20191027T010000
END:STANDARD
END:VTIMEZONE
BEGIN:VEVENT
DTSTART;TZID=Europe/Oslo:20190115T120000
DTEND;TZID=Europe/Oslo:20190115T130000
DTSTAMP:20260423T115102
CREATED:20190109T075523Z
LAST-MODIFIED:20190111T194053Z
UID:10011304-1547553600-1547557200@geoforum.no
SUMMARY:Kartdag NTNU Gjøvik
DESCRIPTION:Universitetsbiblioteket på NTNU i Gjøvik og Geoforum Hedmark-Oppland inviterer til foredraget «Verdensteater» med Thomas Reinertsen Berg. Gratis inngang! \nKartdag NTNU
URL:https://geoforum.no/event/kartdag-ntnu-gjovik/
LOCATION:Universitetsbiblioteket\, G-bygget\, NTNU Gjøvik
CATEGORIES:Temadag lokalt
END:VEVENT
END:VCALENDAR