BEGIN:VCALENDAR
VERSION:2.0
PRODID:-//GeoForum - ECPv6.10.0//NONSGML v1.0//EN
CALSCALE:GREGORIAN
METHOD:PUBLISH
X-ORIGINAL-URL:https://geoforum.no
X-WR-CALDESC:Arrangement for GeoForum
REFRESH-INTERVAL;VALUE=DURATION:PT1H
X-Robots-Tag:noindex
X-PUBLISHED-TTL:PT1H
BEGIN:VTIMEZONE
TZID:Europe/Oslo
BEGIN:DAYLIGHT
TZOFFSETFROM:+0100
TZOFFSETTO:+0200
TZNAME:CEST
DTSTART:20170326T010000
END:DAYLIGHT
BEGIN:STANDARD
TZOFFSETFROM:+0200
TZOFFSETTO:+0100
TZNAME:CET
DTSTART:20171029T010000
END:STANDARD
END:VTIMEZONE
BEGIN:VEVENT
DTSTART;TZID=Europe/Oslo:20170522T094500
DTEND;TZID=Europe/Oslo:20170522T150000
DTSTAMP:20260425T131504
CREATED:20170407T123847Z
LAST-MODIFIED:20170511T054929Z
UID:10011209-1495446300-1495465200@geoforum.no
SUMMARY:Fagdag Utveksling og forvaltning av alle typer geodata – digitalisering av offentlige tjenester
DESCRIPTION:GeoForum Rogaland inviterer til temadag som avholdes i auditoriet hos Kartverket på Ullandhaug. \nInnsamling\, mottak\, forvaltning og utveksling av geodata er en stor utfordring for de organisasjonene som har ansvar for dette. Gjennom regjeringens digitaliseringsstrategi er et av satsingsområdene å digitalisere forvaltningen: \nDigitalisering av offentlige tjenester og interne arbeidsprosesser er viktig for å fornye\, forenkle og forbedre forvaltningen. Digitale tjenester vil gi en enklere hverdag for innbyggere og næringsliv\, samtidig som det legger til rette for at stat og kommune kan løse oppgavene mer effektivt. \nMålgruppen for konferansen er de som arbeider med forvaltning av digitale kartdata – landmålere\, planleggere\, planforvaltere og kartforvaltere. \nPÅMELDING \nPåmeldingsfrist; 12. mai
URL:https://geoforum.no/event/fagdag-utveksling-og-forvaltning-av-alle-typer-geodata-digitalisering-av-offentlige-tjenester/
LOCATION:Kartverket Rogaland\, Professor Olav Hanssens vei 10\, Stavanger
CATEGORIES:Temadag lokalt
GEO:58.9347523;5.702327
X-APPLE-STRUCTURED-LOCATION;VALUE=URI;X-ADDRESS=Kartverket Rogaland Professor Olav Hanssens vei 10 Stavanger;X-APPLE-RADIUS=500;X-TITLE=Professor Olav Hanssens vei 10:geo:5.702327,58.9347523
END:VEVENT
END:VCALENDAR