BEGIN:VCALENDAR
VERSION:2.0
PRODID:-//GeoForum - ECPv6.10.0//NONSGML v1.0//EN
CALSCALE:GREGORIAN
METHOD:PUBLISH
X-ORIGINAL-URL:https://geoforum.no
X-WR-CALDESC:Arrangement for GeoForum
REFRESH-INTERVAL;VALUE=DURATION:PT1H
X-Robots-Tag:noindex
X-PUBLISHED-TTL:PT1H
BEGIN:VTIMEZONE
TZID:Europe/Oslo
BEGIN:DAYLIGHT
TZOFFSETFROM:+0100
TZOFFSETTO:+0200
TZNAME:CEST
DTSTART:20200329T010000
END:DAYLIGHT
BEGIN:STANDARD
TZOFFSETFROM:+0200
TZOFFSETTO:+0100
TZNAME:CET
DTSTART:20201025T010000
END:STANDARD
END:VTIMEZONE
BEGIN:VEVENT
DTSTART;TZID=Europe/Oslo:20201202T090000
DTEND;TZID=Europe/Oslo:20201202T120000
DTSTAMP:20260421T072456
CREATED:20201125T154702Z
LAST-MODIFIED:20201202T153139Z
UID:10011321-1606899600-1606910400@geoforum.no
SUMMARY:Julemøter 2020 i Geoforum
DESCRIPTION:I år arrangerer arrangerer vi 2 digitale julemøter i lokalforeningene. \nVi starter opp 2.desember kl 0900 i Østfold\nProgram for dagen\nInvitasjonen er sendt ut til alle medlemmene. Hvis du ikke har fått den\, send en epost til Nadja Sturmberg (nadjas @ viken.no). \n——- \n9.desember er det Oslo og Akershus sin tur\nProgram for dagen\nInvitasjonen er sendes ut til alle medlemmene. Hvis du ikke har fått den\, send en epost til Andreas Dyken (dykand @ kartverket.no). \n——— \nJulemøtet i Buskerud utsettes og blir trolig arrangert som temadag i 2021\nProgram kommer\nLenke til arrangementet kommer
URL:https://geoforum.no/event/julemoter-2020-i-geoforum/2020-12-02/
CATEGORIES:Temadag lokalt
END:VEVENT
BEGIN:VEVENT
DTSTART;TZID=Europe/Oslo:20201209T090000
DTEND;TZID=Europe/Oslo:20201209T120000
DTSTAMP:20260421T072456
CREATED:20201125T154702Z
LAST-MODIFIED:20201202T153139Z
UID:10011322-1607504400-1607515200@geoforum.no
SUMMARY:Julemøter 2020 i Geoforum
DESCRIPTION:I år arrangerer arrangerer vi 2 digitale julemøter i lokalforeningene. \nVi starter opp 2.desember kl 0900 i Østfold\nProgram for dagen\nInvitasjonen er sendt ut til alle medlemmene. Hvis du ikke har fått den\, send en epost til Nadja Sturmberg (nadjas @ viken.no). \n——- \n9.desember er det Oslo og Akershus sin tur\nProgram for dagen\nInvitasjonen er sendes ut til alle medlemmene. Hvis du ikke har fått den\, send en epost til Andreas Dyken (dykand @ kartverket.no). \n——— \nJulemøtet i Buskerud utsettes og blir trolig arrangert som temadag i 2021\nProgram kommer\nLenke til arrangementet kommer
URL:https://geoforum.no/event/julemoter-2020-i-geoforum/2020-12-09/
CATEGORIES:Temadag lokalt
END:VEVENT
END:VCALENDAR