BEGIN:VCALENDAR
VERSION:2.0
PRODID:-//GeoForum - ECPv6.10.0//NONSGML v1.0//EN
CALSCALE:GREGORIAN
METHOD:PUBLISH
X-WR-CALNAME:GeoForum
X-ORIGINAL-URL:https://geoforum.no
X-WR-CALDESC:Arrangement for GeoForum
REFRESH-INTERVAL;VALUE=DURATION:PT1H
X-Robots-Tag:noindex
X-PUBLISHED-TTL:PT1H
BEGIN:VTIMEZONE
TZID:Europe/Oslo
BEGIN:DAYLIGHT
TZOFFSETFROM:+0100
TZOFFSETTO:+0200
TZNAME:CEST
DTSTART:20200329T010000
END:DAYLIGHT
BEGIN:STANDARD
TZOFFSETFROM:+0200
TZOFFSETTO:+0100
TZNAME:CET
DTSTART:20201025T010000
END:STANDARD
END:VTIMEZONE
BEGIN:VEVENT
DTSTART;TZID=Europe/Oslo:20200909T100000
DTEND;TZID=Europe/Oslo:20200909T140000
DTSTAMP:20260421T104504
CREATED:20200610T074122Z
LAST-MODIFIED:20200824T125210Z
UID:10011414-1599645600-1599660000@geoforum.no
SUMMARY:Nye data til offentlig forvaltning
DESCRIPTION:Geoforum Innlandet arrangerer webinar om bruk av nye geografiske data til offentlig forvaltning. \nTemaene omhandler bruk av BIM\, dronedata og hyperspektrale bilder. Foredragene blir holdt av Trondheim kommune\, Bærum kommune\, Geovekst samarbeidet og en masterstudent. \nHer blir det presentert hvordan man kan anvende og implementere disse dataene til å skape verdi i sin organisasjon. \nWebinaret varer fra 10.00 til 14.00 den 09. september og det er gratis å delta. \nProgram-for-webinar-nye-data-til-offentlig-forvaltning_red \nPåmelding \n \n 
URL:https://geoforum.no/event/nye-data-til-offentlig-forvaltning/
CATEGORIES:Temadag lokalt
ORGANIZER;CN="GeoForum Innlandet":MAILTO:magnus.clausen@stange.kommune.no
END:VEVENT
END:VCALENDAR