BEGIN:VCALENDAR
VERSION:2.0
PRODID:-//GeoForum - ECPv6.10.0//NONSGML v1.0//EN
CALSCALE:GREGORIAN
METHOD:PUBLISH
X-ORIGINAL-URL:https://geoforum.no
X-WR-CALDESC:Arrangement for GeoForum
REFRESH-INTERVAL;VALUE=DURATION:PT1H
X-Robots-Tag:noindex
X-PUBLISHED-TTL:PT1H
BEGIN:VTIMEZONE
TZID:Europe/Oslo
BEGIN:DAYLIGHT
TZOFFSETFROM:+0100
TZOFFSETTO:+0200
TZNAME:CEST
DTSTART:20190331T010000
END:DAYLIGHT
BEGIN:STANDARD
TZOFFSETFROM:+0200
TZOFFSETTO:+0100
TZNAME:CET
DTSTART:20191027T010000
END:STANDARD
END:VTIMEZONE
BEGIN:VEVENT
DTSTART;TZID=Europe/Oslo:20190320T100000
DTEND;TZID=Europe/Oslo:20190321T150000
DTSTAMP:20260423T071957
CREATED:20180524T103655Z
LAST-MODIFIED:20190214T092127Z
UID:10011266-1553076000-1553180400@geoforum.no
SUMMARY:Lokale geomatikkdager i Nordland 2019
DESCRIPTION:Lokale geomatikkdager arrangeres på Scandic Havet Hotell! \n \n  \n  \n  \n  \n  \n  \n  \n  \n  \n  \n  \n  \n  \n  \nProgram \nPåmelding \n 
URL:https://geoforum.no/event/lokale-geomatikkdager-i-nordland-2019/
LOCATION:Scandic Havet Hotell\, Tollbugata 5\, Bodø
CATEGORIES:Lokale geomatikkdager
END:VEVENT
END:VCALENDAR