BEGIN:VCALENDAR
VERSION:2.0
PRODID:-//GeoForum - ECPv6.10.0//NONSGML v1.0//EN
CALSCALE:GREGORIAN
METHOD:PUBLISH
X-WR-CALNAME:GeoForum
X-ORIGINAL-URL:https://geoforum.no
X-WR-CALDESC:Arrangement for GeoForum
REFRESH-INTERVAL;VALUE=DURATION:PT1H
X-Robots-Tag:noindex
X-PUBLISHED-TTL:PT1H
BEGIN:VTIMEZONE
TZID:Europe/Oslo
BEGIN:DAYLIGHT
TZOFFSETFROM:+0100
TZOFFSETTO:+0200
TZNAME:CEST
DTSTART:20190331T010000
END:DAYLIGHT
BEGIN:STANDARD
TZOFFSETFROM:+0200
TZOFFSETTO:+0100
TZNAME:CET
DTSTART:20191027T010000
END:STANDARD
END:VTIMEZONE
BEGIN:VEVENT
DTSTART;TZID=Europe/Oslo:20190313T093000
DTEND;TZID=Europe/Oslo:20190314T150000
DTSTAMP:20260423T071850
CREATED:20181207T081040Z
LAST-MODIFIED:20190308T113319Z
UID:10011302-1552469400-1552575600@geoforum.no
SUMMARY:Lokale geomatikkdager Troms og Finnmark 2019
DESCRIPTION:GeoForum Troms og GeoForum Finnmark inviterer til Geomatikkdagene Troms og Finnmark 2019 den 13. – 14. mars på Radisson Blu Hotel i Tromsø. \nEn faglig samling for brukere\, forvaltere og produsenter innenfor geomatikk\, GIS og geodata. \nMålet med arrangementet er å gi informasjon om ny viten og utvikling innen fagområdet\, og å være et forum for utveksling av erfaringer mellom kommunal\, privat og statlig sektor. \nProgram \nPåmelding
URL:https://geoforum.no/event/lokale-geomatikkdager-troms-og-finnmark-2019/
LOCATION:Tromsø
CATEGORIES:Lokale geomatikkdager
END:VEVENT
END:VCALENDAR