BEGIN:VCALENDAR
VERSION:2.0
PRODID:-//GeoForum - ECPv6.10.0//NONSGML v1.0//EN
CALSCALE:GREGORIAN
METHOD:PUBLISH
X-ORIGINAL-URL:https://geoforum.no
X-WR-CALDESC:Arrangement for GeoForum
REFRESH-INTERVAL;VALUE=DURATION:PT1H
X-Robots-Tag:noindex
X-PUBLISHED-TTL:PT1H
BEGIN:VTIMEZONE
TZID:Europe/Oslo
BEGIN:DAYLIGHT
TZOFFSETFROM:+0100
TZOFFSETTO:+0200
TZNAME:CEST
DTSTART:20190331T010000
END:DAYLIGHT
BEGIN:STANDARD
TZOFFSETFROM:+0200
TZOFFSETTO:+0100
TZNAME:CET
DTSTART:20191027T010000
END:STANDARD
END:VTIMEZONE
BEGIN:VEVENT
DTSTART;TZID=Europe/Oslo:20190122T093000
DTEND;TZID=Europe/Oslo:20190123T150000
DTSTAMP:20260423T113702
CREATED:20180530T090339Z
LAST-MODIFIED:20190115T073841Z
UID:10011271-1548149400-1548255600@geoforum.no
SUMMARY:Lokale geomatikkdager i Trøndelag 2019
DESCRIPTION:Vi ønsker velkommen til vinterens høydepunkt for geomatikkmiljøet i Trøndelag \nProgram_ \nPåmeldingen er stengt\, men dersom du ønsker å delta kan du sende en mail til bernt.audun.stromsli@kartverket.no \n 
URL:https://geoforum.no/event/lokale-geomatikkdager-i-trondelag-2019/
LOCATION:Clarion Hotel og Congress Trondheim\, Brattørkaia 1\, 7010 Trondheim
CATEGORIES:Lokale geomatikkdager
END:VEVENT
END:VCALENDAR