BEGIN:VCALENDAR
VERSION:2.0
PRODID:-//GeoForum - ECPv6.10.0//NONSGML v1.0//EN
CALSCALE:GREGORIAN
METHOD:PUBLISH
X-ORIGINAL-URL:https://geoforum.no
X-WR-CALDESC:Arrangement for GeoForum
REFRESH-INTERVAL;VALUE=DURATION:PT1H
X-Robots-Tag:noindex
X-PUBLISHED-TTL:PT1H
BEGIN:VTIMEZONE
TZID:Europe/Oslo
BEGIN:DAYLIGHT
TZOFFSETFROM:+0100
TZOFFSETTO:+0200
TZNAME:CEST
DTSTART:20190331T010000
END:DAYLIGHT
BEGIN:STANDARD
TZOFFSETFROM:+0200
TZOFFSETTO:+0100
TZNAME:CET
DTSTART:20191027T010000
END:STANDARD
END:VTIMEZONE
BEGIN:VEVENT
DTSTART;TZID=Europe/Oslo:20190114T080000
DTEND;TZID=Europe/Oslo:20190115T160000
DTSTAMP:20260423T112917
CREATED:20180608T112731Z
LAST-MODIFIED:20190206T104730Z
UID:10011291-1547452800-1547568000@geoforum.no
SUMMARY:Lokale geomatikkdager på Norefjell 2019
DESCRIPTION:I 2019 blir det lokale geomatikkdager for Buskerud\, Oslo og Akershus på Norefjell Ski og Spa. \nProgram: \nVi har et spennende og variert program på konferansen. \nDet kan komme noen endringer i programmet frem mot konferansen. \nProgram \nTakk for to bra dager på Norefjell! \nForedrag fra konferansen
URL:https://geoforum.no/event/lokale-geomatikkdager-pa-norefjell-2019/
LOCATION:Norefjell Ski og Spa\,  Bøeseter\, 3536
CATEGORIES:Lokale geomatikkdager
END:VEVENT
END:VCALENDAR