BEGIN:VCALENDAR
VERSION:2.0
PRODID:-//GeoForum - ECPv6.10.0//NONSGML v1.0//EN
CALSCALE:GREGORIAN
METHOD:PUBLISH
X-WR-CALNAME:GeoForum
X-ORIGINAL-URL:https://geoforum.no
X-WR-CALDESC:Arrangement for GeoForum
REFRESH-INTERVAL;VALUE=DURATION:PT1H
X-Robots-Tag:noindex
X-PUBLISHED-TTL:PT1H
BEGIN:VTIMEZONE
TZID:Europe/Oslo
BEGIN:DAYLIGHT
TZOFFSETFROM:+0100
TZOFFSETTO:+0200
TZNAME:CEST
DTSTART:20160327T010000
END:DAYLIGHT
BEGIN:STANDARD
TZOFFSETFROM:+0200
TZOFFSETTO:+0100
TZNAME:CET
DTSTART:20161030T010000
END:STANDARD
END:VTIMEZONE
BEGIN:VEVENT
DTSTART;TZID=Europe/Oslo:20160125T170000
DTEND;TZID=Europe/Oslo:20160127T140000
DTSTAMP:20260425T132606
CREATED:20150922T122149Z
LAST-MODIFIED:20160125T130334Z
UID:10011120-1453741200-1453903200@geoforum.no
SUMMARY:Lokale geomatikkdager Trøndelag
DESCRIPTION:Vi ønsker velkommen til vinterens høydepunkt for geomatikkbransjen i Trøndelag på Scandic Hell\, Værnes! \nPå uformell aften i år (25. januar) skal vi til Stjørdalsbryggeriet på ølsmaking m.m. Det er begrenset med deltagere på dette\, så prinsippet er «førstemann til mølla»! \n  \nVi håper også i år på en stor og god leverandørutstilling. Vi har satt av tid til utstillingsvandring\, samt at vi legger opp til en sosial mingling i utstillingsområdet før festmiddag. \nProgrammet i år er satt sammen med flere foredrag innenfor emnene matrikkel\, 3D\, open source\, det offentlige kartgrunnlaget\, datafangst og natur/ utmark/ skogbruk. Vi har fått tak i gode foredragsholdere som vil presentere spennende prosjekter og produkter innenfor disse fagområdene. \nProgram og invitasjon \nprogram_til_utdeling \nMed forbehold om ledig hotellkapasitet kan man fortsatt melde seg på. Send mail til; bernt.audun.stromsli@kartverket.no  \n 
URL:https://geoforum.no/event/lokale-geomatikkdager-trondelag/
LOCATION:Scandic Hell\, Sandfærhus 22\, Stjørdal\, 7500
CATEGORIES:Lokale geomatikkdager
GEO:63.4490488;10.9127366
X-APPLE-STRUCTURED-LOCATION;VALUE=URI;X-ADDRESS=Scandic Hell Sandfærhus 22 Stjørdal 7500;X-APPLE-RADIUS=500;X-TITLE=Sandfærhus 22:geo:10.9127366,63.4490488
END:VEVENT
END:VCALENDAR