BEGIN:VCALENDAR
VERSION:2.0
PRODID:-//GeoForum - ECPv6.10.0//NONSGML v1.0//EN
CALSCALE:GREGORIAN
METHOD:PUBLISH
X-WR-CALNAME:GeoForum
X-ORIGINAL-URL:https://geoforum.no
X-WR-CALDESC:Arrangement for GeoForum
REFRESH-INTERVAL;VALUE=DURATION:PT1H
X-Robots-Tag:noindex
X-PUBLISHED-TTL:PT1H
BEGIN:VTIMEZONE
TZID:Europe/Oslo
BEGIN:DAYLIGHT
TZOFFSETFROM:+0100
TZOFFSETTO:+0200
TZNAME:CEST
DTSTART:20200329T010000
END:DAYLIGHT
BEGIN:STANDARD
TZOFFSETFROM:+0200
TZOFFSETTO:+0100
TZNAME:CET
DTSTART:20201025T010000
END:STANDARD
END:VTIMEZONE
BEGIN:VEVENT
DTSTART;TZID=Europe/Oslo:20200303T093000
DTEND;TZID=Europe/Oslo:20200304T140000
DTSTAMP:20260422T125621
CREATED:20190328T143250Z
LAST-MODIFIED:20200124T145334Z
UID:10011338-1583227800-1583330400@geoforum.no
SUMMARY:Lokale geomatikkdager 2020 Sogn og Fjordane
DESCRIPTION:GeoForum Sogn og Fjordane inviterer til Lokale geomatikkdager på Hotel Alexandra i Loen. \nProgram \nPåmelding
URL:https://geoforum.no/event/lokale-geomatikkdager-sogn-og-fjordane/
LOCATION:Hotel Alexandra\, Loen\, Loen\, 6789\, Norge
CATEGORIES:Lokale geomatikkdager
GEO:61.870556;6.856944
END:VEVENT
BEGIN:VEVENT
DTSTART;TZID=Europe/Oslo:20200311T103000
DTEND;TZID=Europe/Oslo:20200312T153000
DTSTAMP:20260422T125621
CREATED:20200117T132636Z
LAST-MODIFIED:20200131T113755Z
UID:10011401-1583922600-1584027000@geoforum.no
SUMMARY:Geomatikkdager i Nordland 2020
DESCRIPTION:Velkommen til Geomatikkdager i Nordland 2020! \nKonferansen arrangeres på Scandic Havet i Bodø\, 11.-12. mars. \nProgram \nPåmelding \n  \n 
URL:https://geoforum.no/event/geomatikkdager-i-nordland-2020-2/
CATEGORIES:Lokale geomatikkdager
END:VEVENT
BEGIN:VEVENT
DTSTART;TZID=Europe/Oslo:20200318T080000
DTEND;TZID=Europe/Oslo:20200319T170000
DTSTAMP:20260422T125621
CREATED:20200109T102235Z
LAST-MODIFIED:20200310T111726Z
UID:10011396-1584518400-1584637200@geoforum.no
SUMMARY:Lokale Geomatikkdager 2020 Troms og Finnmark
DESCRIPTION:Velkommen til Lokale Geomatikkdager for Troms og Finnmark 18.-19. mars! Konferansen gjennomføres på Scandic Alta. Dagen før er det fagdag samme sted\, så du kan slå to fluer i en smekk. \nProgram \nPåmelding
URL:https://geoforum.no/event/lokale-geomatikkdager-2020-troms-og-finnmark/
CATEGORIES:Lokale geomatikkdager
END:VEVENT
END:VCALENDAR