BEGIN:VCALENDAR
VERSION:2.0
PRODID:-//GeoForum - ECPv6.10.0//NONSGML v1.0//EN
CALSCALE:GREGORIAN
METHOD:PUBLISH
X-WR-CALNAME:GeoForum
X-ORIGINAL-URL:https://geoforum.no
X-WR-CALDESC:Arrangement for GeoForum
REFRESH-INTERVAL;VALUE=DURATION:PT1H
X-Robots-Tag:noindex
X-PUBLISHED-TTL:PT1H
BEGIN:VTIMEZONE
TZID:Europe/Oslo
BEGIN:DAYLIGHT
TZOFFSETFROM:+0100
TZOFFSETTO:+0200
TZNAME:CEST
DTSTART:20180325T010000
END:DAYLIGHT
BEGIN:STANDARD
TZOFFSETFROM:+0200
TZOFFSETTO:+0100
TZNAME:CET
DTSTART:20181028T010000
END:STANDARD
END:VTIMEZONE
BEGIN:VEVENT
DTSTART;TZID=Europe/Oslo:20180131T080000
DTEND;TZID=Europe/Oslo:20180201T150000
DTSTAMP:20260424T034412
CREATED:20171123T112710Z
LAST-MODIFIED:20180129T105201Z
UID:10011246-1517385600-1517497200@geoforum.no
SUMMARY:Lokale geomatikkdager i Kristiansand 2018 - Geoforum Sørlandet
DESCRIPTION:Program er under utarbeidelse og kommer snart. \nPåmelding \nProgram
URL:https://geoforum.no/event/lokale-geomatikkdager-pa-sorlandet-2018/
LOCATION:Scandic Sørlandet\, Kristiansand
CATEGORIES:Lokale geomatikkdager
END:VEVENT
BEGIN:VEVENT
DTSTART;TZID=Europe/Oslo:20180205T083000
DTEND;TZID=Europe/Oslo:20180206T153000
DTSTAMP:20260424T034412
CREATED:20170912T081133Z
LAST-MODIFIED:20180201T100326Z
UID:10011235-1517819400-1517931000@geoforum.no
SUMMARY:Lokale geomatikkdager i Hordaland 2018
DESCRIPTION:GeoForum Hordaland i samarbeid med Bergen kommune og Hordaland Fylkeskommune arrangerer Lokale Geomatikkdager på Scandic Ørnen Hotel. \nProgram_v04 \nPåmelding \nPåmeldingsfrist er 4. januar. 
URL:https://geoforum.no/event/lokale-geomatikkdager-i-hordaland-2018/
LOCATION:Scandic Ørnen Hotel\, Lars Hilles gate 18\, Bergen\, 5008
CATEGORIES:Lokale geomatikkdager
GEO:60.3882103;5.3314766
X-APPLE-STRUCTURED-LOCATION;VALUE=URI;X-ADDRESS=Scandic Ørnen Hotel Lars Hilles gate 18 Bergen 5008;X-APPLE-RADIUS=500;X-TITLE=Lars Hilles gate 18:geo:5.3314766,60.3882103
END:VEVENT
BEGIN:VEVENT
DTSTART;VALUE=DATE:20180206
DTEND;VALUE=DATE:20180208
DTSTAMP:20260424T034412
CREATED:20170915T072838Z
LAST-MODIFIED:20180124T135718Z
UID:10011237-1517875200-1518047999@geoforum.no
SUMMARY:Lokale geomatikkdager
DESCRIPTION:Geoforum Hedmark og Oppland inviterer til lokale geomatikkdager 2018 på Scandic Hafjell i Øyer. \nSett av 6. og 7. februar 2018 i kalenderen! \nPåmeldingen er nå åpnet – påmeldingsfrist er 19. januar! \nPåmelding \nInvitasjon til utstillere \nGeomatikkdager 2018 – justert program_
URL:https://geoforum.no/event/lokale-geomatikkdager/
LOCATION:Scandic Hafjell Øyer
CATEGORIES:Lokale geomatikkdager
END:VEVENT
BEGIN:VEVENT
DTSTART;TZID=Europe/Oslo:20180214T090000
DTEND;TZID=Europe/Oslo:20180215T140000
DTSTAMP:20260424T034412
CREATED:20170425T074558Z
LAST-MODIFIED:20180214T094050Z
UID:10011129-1518598800-1518703200@geoforum.no
SUMMARY:Lokale Geomatikkdager Troms og Finnmark 2018
DESCRIPTION:Lokale Geomatikkdager arrangeres 14.-15. februar på Scandic Hotell Alta. \nEn faglig samling for brukere\, forvaltere og produsenter innenfor geomatikk\, GIS og geodata. \nMålet med arrangementet er å gi informasjon om ny viten og utvikling innen fagområdet\, og å være et forum for utveksling av erfaringer mellom kommunal\, privat og statlig sektor. \nVi har i år et innholdsrikt program med parallell sesjoner. Dette håper vi kan gi deg et godt faglig påfyll\, både hva angår ditt daglige arbeid\, men også hva som rører seg ellers i fagmiljøet. Du er herved invitert til de lokale geomatikkdagene 2018 for Troms og Finnmark med flere utstillere. \nGeomatikkdagene Troms og Finnmark 14-15 februar 2018 \nPåmelding \nPåmeldingsfrist 10. januar
URL:https://geoforum.no/event/lokale-geomatikkdager-troms-og-finnmark-2018/
LOCATION:Scandic Alta\, Løkkeveien 61\, Alta\, 9509
CATEGORIES:Lokale geomatikkdager
GEO:69.9660019;23.269201
X-APPLE-STRUCTURED-LOCATION;VALUE=URI;X-ADDRESS=Scandic Alta Løkkeveien 61 Alta 9509;X-APPLE-RADIUS=500;X-TITLE=Løkkeveien 61:geo:23.269201,69.9660019
END:VEVENT
END:VCALENDAR