BEGIN:VCALENDAR
VERSION:2.0
PRODID:-//GeoForum - ECPv6.10.0//NONSGML v1.0//EN
CALSCALE:GREGORIAN
METHOD:PUBLISH
X-ORIGINAL-URL:https://geoforum.no
X-WR-CALDESC:Arrangement for GeoForum
REFRESH-INTERVAL;VALUE=DURATION:PT1H
X-Robots-Tag:noindex
X-PUBLISHED-TTL:PT1H
BEGIN:VTIMEZONE
TZID:Europe/Oslo
BEGIN:DAYLIGHT
TZOFFSETFROM:+0100
TZOFFSETTO:+0200
TZNAME:CEST
DTSTART:20150329T010000
END:DAYLIGHT
BEGIN:STANDARD
TZOFFSETFROM:+0200
TZOFFSETTO:+0100
TZNAME:CET
DTSTART:20151025T010000
END:STANDARD
END:VTIMEZONE
BEGIN:VEVENT
DTSTART;TZID=Europe/Oslo:20150303T090000
DTEND;TZID=Europe/Oslo:20150304T170000
DTSTAMP:20260426T015401
CREATED:20141120T112011Z
LAST-MODIFIED:20150128T190031Z
UID:10011098-1425373200-1425488400@geoforum.no
SUMMARY:Lokale Geomatikkdager for Troms og Finnmark 2015
DESCRIPTION:Program-lokale-geomatikkdager-for_Troms_og_Finnmark-2015 \nPåmelding
URL:https://geoforum.no/event/lokale-geomatikkdager-for-troms-og-finnmark-2015/
LOCATION:Hotell Scandic Alta\, Løkkeveien 61 \, Alta\, 9509
CATEGORIES:Lokale geomatikkdager
GEO:69.9660019;23.269201
X-APPLE-STRUCTURED-LOCATION;VALUE=URI;X-ADDRESS=Hotell Scandic Alta Løkkeveien 61  Alta 9509;X-APPLE-RADIUS=500;X-TITLE=Løkkeveien 61:geo:23.269201,69.9660019
END:VEVENT
BEGIN:VEVENT
DTSTART;TZID=Europe/Oslo:20150311T090000
DTEND;TZID=Europe/Oslo:20150312T150000
DTSTAMP:20260426T015401
CREATED:20140731T115746Z
LAST-MODIFIED:20160223T093941Z
UID:10011072-1426064400-1426172400@geoforum.no
SUMMARY:GeoNordland 2015
DESCRIPTION:Se film fra GeoNordland 2014 \n Foredrag fra GeoNordland 2015 \nProgram GeoNordland 2015 \nFilm fra GeoNordland 2015 \n 
URL:https://geoforum.no/event/geonordland-2015/
LOCATION:Hotell Scandic Havet i Bodø\, Tollbugaten 5 \, Bodø\, 8006
CATEGORIES:Lokale geomatikkdager
GEO:67.2839843;14.3749054
X-APPLE-STRUCTURED-LOCATION;VALUE=URI;X-ADDRESS=Hotell Scandic Havet i Bodø Tollbugaten 5  Bodø 8006;X-APPLE-RADIUS=500;X-TITLE=Tollbugaten 5:geo:14.3749054,67.2839843
END:VEVENT
BEGIN:VEVENT
DTSTART;TZID=Europe/Oslo:20150324T093000
DTEND;TZID=Europe/Oslo:20150325T150000
DTSTAMP:20260426T015401
CREATED:20140918T224011Z
LAST-MODIFIED:20150308T164843Z
UID:10011090-1427189400-1427295600@geoforum.no
SUMMARY:GeoForum Sogn og Fjordane arrangerer lokale kart- og plandager  i Loen
DESCRIPTION:Program lokale kart og plandagar \nPåmelding til ola.forde@gloppen.kommune.no \n  \n 
URL:https://geoforum.no/event/geoforum-sogn-og-fjordane-arrangerer-lokale-geomatikkdager-i-loen/
LOCATION:Hotel Alexandra\, Loen\, Loen\, 6789\, Norge
CATEGORIES:Lokale geomatikkdager
ATTACH;FMTTYPE=image/jpeg:https://geoforum.no/wp-content/uploads/2014/09/010_lite.jpg
GEO:61.870556;6.856944
END:VEVENT
END:VCALENDAR