BEGIN:VCALENDAR
VERSION:2.0
PRODID:-//GeoForum - ECPv6.10.0//NONSGML v1.0//EN
CALSCALE:GREGORIAN
METHOD:PUBLISH
X-WR-CALNAME:GeoForum
X-ORIGINAL-URL:https://geoforum.no
X-WR-CALDESC:Arrangement for GeoForum
REFRESH-INTERVAL;VALUE=DURATION:PT1H
X-Robots-Tag:noindex
X-PUBLISHED-TTL:PT1H
BEGIN:VTIMEZONE
TZID:Europe/Oslo
BEGIN:DAYLIGHT
TZOFFSETFROM:+0100
TZOFFSETTO:+0200
TZNAME:CEST
DTSTART:20140330T010000
END:DAYLIGHT
BEGIN:STANDARD
TZOFFSETFROM:+0200
TZOFFSETTO:+0100
TZNAME:CET
DTSTART:20141026T010000
END:STANDARD
END:VTIMEZONE
BEGIN:VEVENT
DTSTART;TZID=Europe/Oslo:20141112T093000
DTEND;TZID=Europe/Oslo:20141113T153000
DTSTAMP:20260426T053921
CREATED:20140918T201706Z
LAST-MODIFIED:20140918T201706Z
UID:10011083-1415784600-1415892600@geoforum.no
SUMMARY:Lokale kartdager i Møre og Romsdal
DESCRIPTION:GeoForum Møre og Romsdal inviterer kompetansesugne kartfolk til ei faglig og hyggelig samling i Molde. \nProgram \nPåmelding
URL:https://geoforum.no/event/lokale-kartdager-i-more-og-romsdal/
LOCATION:Quality Hotel Alexandra\, Storgaten 1-7\, Molde\, 6413
CATEGORIES:Lokale geomatikkdager
ORGANIZER;CN="GeoForum M%C3%B8re og Romsdal":MAILTO:wenche.mork@kartverket.no
GEO:62.7348379;7.1543127
X-APPLE-STRUCTURED-LOCATION;VALUE=URI;X-ADDRESS=Quality Hotel Alexandra Storgaten 1-7 Molde 6413;X-APPLE-RADIUS=500;X-TITLE=Storgaten 1-7:geo:7.1543127,62.7348379
END:VEVENT
END:VCALENDAR