BEGIN:VCALENDAR
VERSION:2.0
PRODID:-//GeoForum - ECPv6.10.0//NONSGML v1.0//EN
CALSCALE:GREGORIAN
METHOD:PUBLISH
X-ORIGINAL-URL:https://geoforum.no
X-WR-CALDESC:Arrangement for GeoForum
REFRESH-INTERVAL;VALUE=DURATION:PT1H
X-Robots-Tag:noindex
X-PUBLISHED-TTL:PT1H
BEGIN:VTIMEZONE
TZID:Europe/Oslo
BEGIN:DAYLIGHT
TZOFFSETFROM:+0100
TZOFFSETTO:+0200
TZNAME:CEST
DTSTART:20230326T010000
END:DAYLIGHT
BEGIN:STANDARD
TZOFFSETFROM:+0200
TZOFFSETTO:+0100
TZNAME:CET
DTSTART:20231029T010000
END:STANDARD
END:VTIMEZONE
BEGIN:VEVENT
DTSTART;TZID=Europe/Oslo:20231115T090000
DTEND;TZID=Europe/Oslo:20231115T144500
DTSTAMP:20260420T013818
CREATED:20231016T091418Z
LAST-MODIFIED:20231016T091541Z
UID:10011610-1700038800-1700059500@geoforum.no
SUMMARY:Fagdag matrikkel i Rogaland 2023
DESCRIPTION:GeoForum Rogaland inviterer til fagdag matrikkel. \nSted: Sandnes kommune rådhuset – Rådhusgata 1\, 4306\, Sandnes \nProgram \nPåmelding \nPåmeldingsfrist 1. november
URL:https://geoforum.no/event/fagdag-matrikkel-i-rogaland23/
CATEGORIES:Fagdag
END:VEVENT
BEGIN:VEVENT
DTSTART;TZID=Europe/Oslo:20231130T090000
DTEND;TZID=Europe/Oslo:20231130T110000
DTSTAMP:20260420T013818
CREATED:20231121T132618Z
LAST-MODIFIED:20231121T132618Z
UID:10011619-1701334800-1701342000@geoforum.no
SUMMARY:GeoForum Trøndelag inviterer til Gratis fagdag i samarbeid med NTNU
DESCRIPTION:Geoforum Trøndelag inviterer til gratis fagdag i sammarbeid med NTNU. \nSelve Fagdag skjer fysisk på NTNU (Gløshaugen\, auditorium R4) 30.11.2023 fra kl9.00- 11.00 med lunsj og diskusjon etterpå. \nVed interesse er det mulig å følge med på foredragene på livestream. \nMELD DEG PÅ \n  \nProgram for Fagdagen \n• Introduksjon til Faggruppe\, T. Midtbø (5 min) \n• Introduksjon til Studieprogram for ingeniørvitenskap og IKT\, T.Midtbø (10 min) \n• Precise GNSS Positioning with Low-cost Receivers for Next-Gen Mobility\, H. Nahavandchi +PhD student (15 min) \n• Using GNSS reflected signals for study of Ocean and Ice parameters\, H. Nahavandchi +PhD student? (15 min) \n• Photogrammetric approaches to generate multi-scaled 3D building models. H. Fan + PhD student? (30 min) \n• Geoknowledge graph for spatial data integration and analysis (15 min) L. Ding • Visualisering av geologi\, A. Bang-Kittilsen (15 min) \nBli med å hør på det som rører seg innenfor Geomatikk akuratt nå 🙂 \nHar du tid og annledning\, vil vi absolutt anbefale å være med hvis du kan fysisk\, eller har du ikke anledning meld deg på digital versjon. \nGjerne spre ord videre. \n  \n 
URL:https://geoforum.no/event/geoforum-trondelag-inviterer-til-gratis-fagdag-i-samarbeid-med-ntnu/
CATEGORIES:Fagdag
END:VEVENT
END:VCALENDAR