BEGIN:VCALENDAR
VERSION:2.0
PRODID:-//GeoForum - ECPv6.10.0//NONSGML v1.0//EN
CALSCALE:GREGORIAN
METHOD:PUBLISH
X-ORIGINAL-URL:https://geoforum.no
X-WR-CALDESC:Arrangement for GeoForum
REFRESH-INTERVAL;VALUE=DURATION:PT1H
X-Robots-Tag:noindex
X-PUBLISHED-TTL:PT1H
BEGIN:VTIMEZONE
TZID:Europe/Oslo
BEGIN:DAYLIGHT
TZOFFSETFROM:+0100
TZOFFSETTO:+0200
TZNAME:CEST
DTSTART:20250330T010000
END:DAYLIGHT
BEGIN:STANDARD
TZOFFSETFROM:+0200
TZOFFSETTO:+0100
TZNAME:CET
DTSTART:20251026T010000
END:STANDARD
END:VTIMEZONE
BEGIN:VEVENT
DTSTART;TZID=Europe/Oslo:20250917T090000
DTEND;TZID=Europe/Oslo:20250917T113000
DTSTAMP:20260419T161912
CREATED:20250624T084319Z
LAST-MODIFIED:20250624T084319Z
UID:10011746-1758099600-1758108600@geoforum.no
SUMMARY:FoU-forum\, halvdagsmøte
DESCRIPTION:Forskning og utvikling (FoU) i Kartverket | Kartverket.no
URL:https://geoforum.no/event/fou-forum-halvdagsmote/
CATEGORIES:Eksterne kurs og konferanser
END:VEVENT
BEGIN:VEVENT
DTSTART;TZID=Europe/Oslo:20250917T090000
DTEND;TZID=Europe/Oslo:20250917T150000
DTSTAMP:20260419T161912
CREATED:20250617T104606Z
LAST-MODIFIED:20250915T173918Z
UID:10011738-1758099600-1758121200@geoforum.no
SUMMARY:GeoForum Trøndelag: Fagdag GeoKlar & DOK - 17. september 2025
DESCRIPTION:Samarbeid og erfaringsdeling er det viktigste. Skal vi bli gode må vi dele kunnskap! \nVi ser frem til en inspirerende dag med fokus på hvordan kart og DOK datasett kan styrke beredskapsarbeidet! \nTema: Kart som overordnet tema for en felles situasjonsforståelse. \nMålgruppe: Beredskapsansvarlige i kommunene\, Statsforvalteren\, brannvesen\, Kartverket\, og andre relevante aktører. \nProgrammet vil inkludere: \n\nPresentasjon av det offentlige kartgrunnlaget (DOK) i krisearbeid\nGode eksempler fra praksis\nInnlegg fra Kartverket og Plan- og temadatautvalget (Norge digitalt)\n\nSted: Radisson Blu hotel Trondheim Airport. \nRegistreringen starter kl 0900. \nGeoKlar_DOK_Program_17092025 \nPåmelding
URL:https://geoforum.no/event/fagdag-geoklar-dok-17-september-2025/
END:VEVENT
BEGIN:VEVENT
DTSTART;TZID=Europe/Oslo:20250917T090000
DTEND;TZID=Europe/Oslo:20250918T151500
DTSTAMP:20260419T161912
CREATED:20250603T082508Z
LAST-MODIFIED:20250603T082509Z
UID:10011735-1758099600-1758208500@geoforum.no
SUMMARY:Eiendomsrettseminar 2025
DESCRIPTION:Tradisjonen tro arrangerer Kartverket eiendomsrettseminar på Sundvolden hotell \nMer informasjon og påmelding
URL:https://geoforum.no/event/eiendomsrettseminar-2025/
CATEGORIES:Eksterne kurs og konferanser
END:VEVENT
END:VCALENDAR