BEGIN:VCALENDAR
VERSION:2.0
PRODID:-//GeoForum - ECPv6.10.0//NONSGML v1.0//EN
CALSCALE:GREGORIAN
METHOD:PUBLISH
X-WR-CALNAME:GeoForum
X-ORIGINAL-URL:https://geoforum.no
X-WR-CALDESC:Arrangement for GeoForum
REFRESH-INTERVAL;VALUE=DURATION:PT1H
X-Robots-Tag:noindex
X-PUBLISHED-TTL:PT1H
BEGIN:VTIMEZONE
TZID:Europe/Oslo
BEGIN:DAYLIGHT
TZOFFSETFROM:+0100
TZOFFSETTO:+0200
TZNAME:CEST
DTSTART:20250330T010000
END:DAYLIGHT
BEGIN:STANDARD
TZOFFSETFROM:+0200
TZOFFSETTO:+0100
TZNAME:CET
DTSTART:20251026T010000
END:STANDARD
END:VTIMEZONE
BEGIN:VEVENT
DTSTART;TZID=Europe/Oslo:20250320T090000
DTEND;TZID=Europe/Oslo:20250321T153000
DTSTAMP:20260420T044054
CREATED:20250207T095632Z
LAST-MODIFIED:20250207T095952Z
UID:10011705-1742461200-1742571000@geoforum.no
SUMMARY:Plan og bygningsrett for konsulenter
DESCRIPTION:Holth og Winge arrangerer kurs innen plan- og bygningsrett for konsulenter i Oslo sentrum. \nRabatert pris for medlemmer og ansatt hos bedriftsmedlemmer kr 8 000 for to dager. Oppgi at du er medlem i info-feltet i påmeldingen \nLink til program og påmelding: \nPlan- og bygningsrett for konsulenter! – Holth & Winge
URL:https://geoforum.no/event/plan-og-bygningsrett-for-konsulenter/
CATEGORIES:Eksterne kurs og konferanser
END:VEVENT
END:VCALENDAR