BEGIN:VCALENDAR
VERSION:2.0
PRODID:-//GeoForum - ECPv6.10.0//NONSGML v1.0//EN
CALSCALE:GREGORIAN
METHOD:PUBLISH
X-WR-CALNAME:GeoForum
X-ORIGINAL-URL:https://geoforum.no
X-WR-CALDESC:Arrangement for GeoForum
REFRESH-INTERVAL;VALUE=DURATION:PT1H
X-Robots-Tag:noindex
X-PUBLISHED-TTL:PT1H
BEGIN:VTIMEZONE
TZID:Europe/Oslo
BEGIN:DAYLIGHT
TZOFFSETFROM:+0100
TZOFFSETTO:+0200
TZNAME:CEST
DTSTART:20250330T010000
END:DAYLIGHT
BEGIN:STANDARD
TZOFFSETFROM:+0200
TZOFFSETTO:+0100
TZNAME:CET
DTSTART:20251026T010000
END:STANDARD
END:VTIMEZONE
BEGIN:VEVENT
DTSTART;TZID=Europe/Oslo:20250318T090000
DTEND;TZID=Europe/Oslo:20250318T113000
DTSTAMP:20260420T044109
CREATED:20250313T101758Z
LAST-MODIFIED:20250313T101919Z
UID:10011716-1742288400-1742297400@geoforum.no
SUMMARY:FoU-forum for geografisk informasjon
DESCRIPTION:Tema denne gang er geografisk informasjon som nøkkel i sikkerhet\, beredskap og forsvar – fortsettelse og oppdatering fra møte i desember 2024. \nFoU-forum skal være et nasjonalt samlingspunkt for forskning og utvikling innen geografiske data\, infrastruktur\, metode og teknologi. \nPåmelding finner du her \nForeløpig agenda:\n\n09.00 Velkommen og status fra arbeidsgruppen\n\nNy leder og arbeidsgruppe presenterer seg\nRevidert mandat vedtatt i samordningsgruppen 20.02.25\nKort om neste møte\, Tromsø 20.05.25\n\n09.15 Temasesjon: Geografisk informasjon som nøkkel i sikkerhet\, beredskap og forsvar – fortsettelse og oppdatering fra 17.12.24\nEndret geopolitisk situasjon stiller nye krav til hele verdikjeden for geografisk informasjon – fra datafangst\, forvaltning til deling og bruk av data. Hva betyr dette for oss i prosjektsamarbeid og kunnskapsutvikling? Hvilke nye problemstillinger må vi ta med inn i vurderingene når nye tjenester og løsninger skapes? Hvordan kan vi gjennom forskning bidra til at geografisk informasjon støtter behovene for sikkerhet\, beredskap og forsvar? Inviterte innledere belyser\, hensikten er “oppdatert situasjonsforståelse” og felles innsats på forskningsfronten. \n\nFAKS – Felles Aksjonsstøtte Verktøy – erfaringer og behov på veien videre ved Stine Mikalsen og Anna Sofia Karlqvist\, Barentswatch\nBedring av metoder for analyse av fysisk klimarisiko i transportsektoren – hva prøver vi å få til? ved Carlo Aall\, Vestlandsforsking\nNår krisen treffer\, hvordan får vi rask tilgang til data? Og kan vi anvende data for forskning i etterkant?\n\nCopernicus beredskapstjeneste ved Ola Nordbeck\, Norsk romsenter\nInnsikt etter krisen: Geodataenes verdi etter flom og skred ved Linn Varhaugvik Arto\, Norges vassdrags- og energidirektorat (NVE). I krisesituasjoner kan NVE via Geovekst samle inn flybåren data veldig raskt. NVE har stor nytte av dataene i ettertid for å redusere materielle skader og bedre sikkerhet for mennesker.\nNorges teknisk-naturvitenskapelige universitet (NTNU) Samfunnssikkerhet – En mulighet for FoU-forum ved Nils Kalstad\, direktør NTNU Samfunnssikkerhet\n\n\nHva tar vi med oss videre\, hvordan?\n\n11.15 Aktuelle utlysninger\n\nMuligheter i EU-systemet for norske aktører ved Arne J. Berre\, SINTEF Digital\n\n11.30 Takk for i dag\n  \nFoU-forum har blitt godkjent av Samordningsgruppen med mandat publisert på Geonorge\, og er en oppfølging av tiltak 24 i nasjonal geodatastrategi «FoU-strategi for geografisk informasjon».
URL:https://geoforum.no/event/fou-forum-for-geografisk-informasjon-5/
CATEGORIES:Eksterne kurs og konferanser
END:VEVENT
END:VCALENDAR