BEGIN:VCALENDAR
VERSION:2.0
PRODID:-//GeoForum - ECPv6.10.0//NONSGML v1.0//EN
CALSCALE:GREGORIAN
METHOD:PUBLISH
X-WR-CALNAME:GeoForum
X-ORIGINAL-URL:https://geoforum.no
X-WR-CALDESC:Arrangement for GeoForum
REFRESH-INTERVAL;VALUE=DURATION:PT1H
X-Robots-Tag:noindex
X-PUBLISHED-TTL:PT1H
BEGIN:VTIMEZONE
TZID:Europe/Oslo
BEGIN:DAYLIGHT
TZOFFSETFROM:+0100
TZOFFSETTO:+0200
TZNAME:CEST
DTSTART:20250330T010000
END:DAYLIGHT
BEGIN:STANDARD
TZOFFSETFROM:+0200
TZOFFSETTO:+0100
TZNAME:CET
DTSTART:20251026T010000
END:STANDARD
END:VTIMEZONE
BEGIN:VEVENT
DTSTART;TZID=Europe/Oslo:20250307T120000
DTEND;TZID=Europe/Oslo:20250307T143000
DTSTAMP:20260420T044049
CREATED:20250225T095421Z
LAST-MODIFIED:20250225T095445Z
UID:10011711-1741348800-1741357800@geoforum.no
SUMMARY:Kvinnelige gründere: Om rollemodeller\, romfart og robothaler
DESCRIPTION:Bli med på vårt arrangement for å fremme kvinnelige gründerskap og mangfold blant gründere fra hele Norge! Vi tror at et større mangfold gir opphav til flere ideer\, nye perspektiver og løsninger. Flere bør ta eierskap til utviklingen av samfunnet vårt. I årets program bidrar blant annet Norges første kvinnelige astronaut og gründere innenfor robotikk\, gaming og bærekraftig matproduksjon. \nArrangør Innovasjon Norge \nSe hele programmet  på innovasjonnorge.no
URL:https://geoforum.no/event/kvinnelige-grundere-om-rollemodeller-romfart-og-robothaler/
CATEGORIES:Eksterne kurs og konferanser
END:VEVENT
END:VCALENDAR