BEGIN:VCALENDAR
VERSION:2.0
PRODID:-//GeoForum - ECPv6.10.0//NONSGML v1.0//EN
CALSCALE:GREGORIAN
METHOD:PUBLISH
X-ORIGINAL-URL:https://geoforum.no
X-WR-CALDESC:Arrangement for GeoForum
REFRESH-INTERVAL;VALUE=DURATION:PT1H
X-Robots-Tag:noindex
X-PUBLISHED-TTL:PT1H
BEGIN:VTIMEZONE
TZID:Europe/Oslo
BEGIN:DAYLIGHT
TZOFFSETFROM:+0100
TZOFFSETTO:+0200
TZNAME:CEST
DTSTART:20250330T010000
END:DAYLIGHT
BEGIN:STANDARD
TZOFFSETFROM:+0200
TZOFFSETTO:+0100
TZNAME:CET
DTSTART:20251026T010000
END:STANDARD
END:VTIMEZONE
BEGIN:VEVENT
DTSTART;TZID=Europe/Oslo:20250306T140000
DTEND;TZID=Europe/Oslo:20250306T150000
DTSTAMP:20260420T044345
CREATED:20250211T222452Z
LAST-MODIFIED:20250218T142307Z
UID:10011707-1741269600-1741273200@geoforum.no
SUMMARY:Årsmøte 2025 for Geoforum Buskerud
DESCRIPTION:Inviterer til digitalt årsmøte. Se under dokumenter til årsmøtet. \nÅrsmøte innkalling \nÅrsberetning GeoForum Buskerud 2024 \nResultat og balanse 2024 \nRevisors kommentar 2024 \nBudsjett 2025
URL:https://geoforum.no/event/arsmote-2025-for-geoforum-buskerud/
CATEGORIES:Årsmøte
END:VEVENT
END:VCALENDAR