BEGIN:VCALENDAR
VERSION:2.0
PRODID:-//GeoForum - ECPv6.10.0//NONSGML v1.0//EN
CALSCALE:GREGORIAN
METHOD:PUBLISH
X-WR-CALNAME:GeoForum
X-ORIGINAL-URL:https://geoforum.no
X-WR-CALDESC:Arrangement for GeoForum
REFRESH-INTERVAL;VALUE=DURATION:PT1H
X-Robots-Tag:noindex
X-PUBLISHED-TTL:PT1H
BEGIN:VTIMEZONE
TZID:Europe/Oslo
BEGIN:DAYLIGHT
TZOFFSETFROM:+0100
TZOFFSETTO:+0200
TZNAME:CEST
DTSTART:20250330T010000
END:DAYLIGHT
BEGIN:STANDARD
TZOFFSETFROM:+0200
TZOFFSETTO:+0100
TZNAME:CET
DTSTART:20251026T010000
END:STANDARD
END:VTIMEZONE
BEGIN:VEVENT
DTSTART;TZID=Europe/Oslo:20250212T090000
DTEND;TZID=Europe/Oslo:20250213T140000
DTSTAMP:20260420T054534
CREATED:20250107T122717Z
LAST-MODIFIED:20250107T122717Z
UID:10011694-1739350800-1739455200@geoforum.no
SUMMARY:Utdanningsmesse Oslo
DESCRIPTION:Utdanningsmesser — GEOMATIKKBRANSJEN
URL:https://geoforum.no/event/utdanningsmesse-oslo/
END:VEVENT
END:VCALENDAR