BEGIN:VCALENDAR
VERSION:2.0
PRODID:-//GeoForum - ECPv6.10.0//NONSGML v1.0//EN
CALSCALE:GREGORIAN
METHOD:PUBLISH
X-ORIGINAL-URL:https://geoforum.no
X-WR-CALDESC:Arrangement for GeoForum
REFRESH-INTERVAL;VALUE=DURATION:PT1H
X-Robots-Tag:noindex
X-PUBLISHED-TTL:PT1H
BEGIN:VTIMEZONE
TZID:Europe/Oslo
BEGIN:DAYLIGHT
TZOFFSETFROM:+0100
TZOFFSETTO:+0200
TZNAME:CEST
DTSTART:20250330T010000
END:DAYLIGHT
BEGIN:STANDARD
TZOFFSETFROM:+0200
TZOFFSETTO:+0100
TZNAME:CET
DTSTART:20251026T010000
END:STANDARD
END:VTIMEZONE
BEGIN:VEVENT
DTSTART;TZID=Europe/Oslo:20250210T080000
DTEND;TZID=Europe/Oslo:20250211T153000
DTSTAMP:20260420T054749
CREATED:20240226T090746Z
LAST-MODIFIED:20250114T110855Z
UID:10011651-1739174400-1739287800@geoforum.no
SUMMARY:Stikningskonferansen 2025
DESCRIPTION:Sandvika: Thon Hotel Oslofjord \nInformasjon\, program og påmelding: Stikningskonferansen
URL:https://geoforum.no/event/stikningskonferansen-2025/
CATEGORIES:Konferanse
END:VEVENT
END:VCALENDAR