BEGIN:VCALENDAR
VERSION:2.0
PRODID:-//GeoForum - ECPv6.10.0//NONSGML v1.0//EN
CALSCALE:GREGORIAN
METHOD:PUBLISH
X-WR-CALNAME:GeoForum
X-ORIGINAL-URL:https://geoforum.no
X-WR-CALDESC:Arrangement for GeoForum
REFRESH-INTERVAL;VALUE=DURATION:PT1H
X-Robots-Tag:noindex
X-PUBLISHED-TTL:PT1H
BEGIN:VTIMEZONE
TZID:Europe/Oslo
BEGIN:DAYLIGHT
TZOFFSETFROM:+0100
TZOFFSETTO:+0200
TZNAME:CEST
DTSTART:20240331T010000
END:DAYLIGHT
BEGIN:STANDARD
TZOFFSETFROM:+0200
TZOFFSETTO:+0100
TZNAME:CET
DTSTART:20241027T010000
END:STANDARD
END:VTIMEZONE
BEGIN:VEVENT
DTSTART;TZID=Europe/Oslo:20241204T090000
DTEND;TZID=Europe/Oslo:20241205T150000
DTSTAMP:20260420T021659
CREATED:20240411T083737Z
LAST-MODIFIED:20241125T171309Z
UID:10011659-1733302800-1733410800@geoforum.no
SUMMARY:Plan\, bygg og geodata - Kommunal geomatikkonferanse 2024
DESCRIPTION:Velkommen til plan\, bygg og geodata – Kommunal geomatikkonferanse 04.-05. desember på Clarion Hotel og Congress Oslo airport. \nKonferansen er  møtestedet for planleggere\, byggesaksbehandlere\, landmålere og andre som jobber med geodata i kommunal sektor. Vi har fremdeles ledige plasser. \nInformer også din kollega om denne konferansen slik at vi når ut til flere. \nProgram \nPåmelding \nGratisdeltakelse for planleggere og byggesaksbehandlere er trukket og de har fått beskjed. \nAll praktisk informasjon er samlet på siste side i programmet.
URL:https://geoforum.no/event/plan-bygg-og-geodata-kommunal-geomatikkonferanse-2024/
CATEGORIES:Konferanse
END:VEVENT
END:VCALENDAR