BEGIN:VCALENDAR
VERSION:2.0
PRODID:-//GeoForum - ECPv6.10.0//NONSGML v1.0//EN
CALSCALE:GREGORIAN
METHOD:PUBLISH
X-ORIGINAL-URL:https://geoforum.no
X-WR-CALDESC:Arrangement for GeoForum
REFRESH-INTERVAL;VALUE=DURATION:PT1H
X-Robots-Tag:noindex
X-PUBLISHED-TTL:PT1H
BEGIN:VTIMEZONE
TZID:Europe/Oslo
BEGIN:DAYLIGHT
TZOFFSETFROM:+0100
TZOFFSETTO:+0200
TZNAME:CEST
DTSTART:20240331T010000
END:DAYLIGHT
BEGIN:STANDARD
TZOFFSETFROM:+0200
TZOFFSETTO:+0100
TZNAME:CET
DTSTART:20241027T010000
END:STANDARD
END:VTIMEZONE
BEGIN:VEVENT
DTSTART;TZID=Europe/Oslo:20241202T100000
DTEND;TZID=Europe/Oslo:20241202T113000
DTSTAMP:20260420T022019
CREATED:20241125T163420Z
LAST-MODIFIED:20241125T163440Z
UID:10011555-1733133600-1733139000@geoforum.no
SUMMARY:Matrikkel-mandag\, tema veggrunn
DESCRIPTION:Veggrunn – hvor går vegen og hvem eier den? \nDenne mandagen vil Torunn Roligheten Alme ta for seg Kartverkets rolle når det gjelder veggrunn og matrikkel. Birgitte Akerhaugen vil gå igjennom relevant regelverk for veggrunn\, hvem som godtgjør å være eier\, hvordan det kan dokumenteres og hva kommunen kan forvente. Det vil også bli et historisk tilbakeblikk\, noe som er viktig for å forstå dagens situasjon. \nBirgitte disputerte i år med avhandlingen “Veggrunn og eiendomsforhold : administrasjon og forvaltning av offentlige veger i Norge som utgangspunkt ved avklaring av eierforhold og registrering av grenser”. \nMer informasjon og meld deg på: \nMatrikkel-mandag | Kartverket.no \n 
URL:https://geoforum.no/event/matrikkel-mandag-tema-veggrunn/
CATEGORIES:Webinar eksternt
END:VEVENT
END:VCALENDAR