BEGIN:VCALENDAR
VERSION:2.0
PRODID:-//GeoForum - ECPv6.10.0//NONSGML v1.0//EN
CALSCALE:GREGORIAN
METHOD:PUBLISH
X-WR-CALNAME:GeoForum
X-ORIGINAL-URL:https://geoforum.no
X-WR-CALDESC:Arrangement for GeoForum
REFRESH-INTERVAL;VALUE=DURATION:PT1H
X-Robots-Tag:noindex
X-PUBLISHED-TTL:PT1H
BEGIN:VTIMEZONE
TZID:Europe/Oslo
BEGIN:DAYLIGHT
TZOFFSETFROM:+0100
TZOFFSETTO:+0200
TZNAME:CEST
DTSTART:20240331T010000
END:DAYLIGHT
BEGIN:STANDARD
TZOFFSETFROM:+0200
TZOFFSETTO:+0100
TZNAME:CET
DTSTART:20241027T010000
END:STANDARD
END:VTIMEZONE
BEGIN:VEVENT
DTSTART;TZID=Europe/Oslo:20241126T100000
DTEND;TZID=Europe/Oslo:20241127T150000
DTSTAMP:20260420T003541
CREATED:20241113T152001Z
LAST-MODIFIED:20241113T152001Z
UID:10011551-1732615200-1732719600@geoforum.no
SUMMARY:Nasjonal plankonferanse 2024
DESCRIPTION:Nasjonal plankonferanse for planfolk på statleg og regionalt nivå vert på Bristol hotell i Oslo 26. – 27. november. Dette er den tradisjonelle nettverkssamlinga som er før jul kvart år\, og som i år har fått nytt navn. Påmeldingsfrist er passert og konferansen er fulltegnet. Første dag av konferansen vil bli sendt på regjeringen.no og blir tilgjengeleg i etterkant.
URL:https://geoforum.no/event/nasjonal-plankonferanse-2024/
CATEGORIES:Eksterne kurs og konferanser
END:VEVENT
BEGIN:VEVENT
DTSTART;TZID=Europe/Oslo:20241127T093000
DTEND;TZID=Europe/Oslo:20241127T150000
DTSTAMP:20260420T003541
CREATED:20241016T112752Z
LAST-MODIFIED:20241111T125120Z
UID:10011689-1732699800-1732719600@geoforum.no
SUMMARY:Fagdag 2024 – DOK\, plan og temadata\, Bergen
DESCRIPTION:Velkomen til Fagdag på Opus XVI\n \nPå det tredje skal det skje. Me kan med dette ynskje velkomen til nok ein fagdag i DOK\, plan og temadata i regi av Plan- og temadatautvalget i Vestland og Geoforum Hordaland\, den 27. november kl 09.30-15.00. For tredje gong fyllar me Hotel Opus XVI med tankar\, erfaringar og diskusjonar om geomatikk\, planarbeid\, temadata og DOK. \n– Da kan me slå fast at tradisjonen er etablert \n  \nVed dei to foregåande utgåvene kunne du nyte morgonkaffien i lag med kjende og ukjende menneske med same interessa som deg sjølv\, og i år blir intet unntak.\nKom og få fagleg påfyll og nyt ein betre lunsj\, med to rettar\, i brasseriet på Opus XVI. Diskuter første økt av dagen under måltidet\, eller berre gled deg til resten av dagen. \nFor her kjem det eit program som har deg i fokus\, tettare kopling av folk og fag innan plan og temadata. \n  \nProgrammet er under arbeid\, men me kan røpa at det i år vert fokus på beredskapstema både lokalt og regionalt\, og erfaringsdeling fra både større og mindre kommunar. Me har fokus på å løfte fram temadata i praksis\, til inspirasjon og ettertanke for alle deltakere\, og som grunnlag for engasjerande diskusjonar i diskusjonsbolkane. \n  \nMedlemsfordel – dobbel gevinst\nGeoforum set stor pris på deg som personleg medlem. Difor vil fagdagen i år som i fjor vera heilt GRATIS for alle personlege medlem – me sponsar heile dagen inkludert ein betre torettar lunsj. \nPris per deltakar (ikkje-medlem): \n\nIkkje-medlem: 825 kr\nStudent\, ikkje-medlem: 300 kr\n\nMeld deg inn i Geoforum Hordaland (400 kr/år ordinær og 200 kr/år for student) og delta gratis på fagdagen. Du får med andre ord medlemskontingenten igjen over to gongar ved deltaking. Dette er sjøvlsagt i tillegg til rabattar på våre andre arrangement\, samt alle dei andre medlemsfordelane. \n  \nPåmelding\nMeld deg på via påmeldingsskjemaet. \nPÅMELDINGSFRIST: 18. november\n  \nProgram\nProgrammet blir kontinuerleg oppdatert\, og ligg i denne lenka. \n  \n  \nMe gler oss til å sjåast 27. november! \n  \n 
URL:https://geoforum.no/event/fagdag-2024-dok-plan-og-temadata-bergen/
CATEGORIES:Temadag lokalt
END:VEVENT
BEGIN:VEVENT
DTSTART;TZID=Europe/Oslo:20241127T113000
DTEND;TZID=Europe/Oslo:20241127T160000
DTSTAMP:20260420T003541
CREATED:20240920T100349Z
LAST-MODIFIED:20241121T085747Z
UID:10011684-1732707000-1732723200@geoforum.no
SUMMARY:GeoForum Oslo og Akershus og Buskerud: DOK fagdag
DESCRIPTION:Vi planlegger fagdag på DOK i november. Fagdagen blir hotellet Quality River Station i Drammen. \nFor de som er medlem (ikke bedriftsmedlem) i Geoforum gir vi de 50 første gratis deltakelse. Det inkluderer lunsj fra kl 1130 til 1230på hotellet. \nProgram for dagen\nPåmelding \nDOK er forkortelse for Det Offentlige Kartgrunnlaget. Det er en samling av offentlige geografiske data som er tilrettelagt for kommunenes plan- og byggesaksarbeid.\nMer om DOK https://www.kartverket.no/geodataarbeid/dok-og-temadata/det-offentlige-kartgrunnlaget \n 
URL:https://geoforum.no/event/geoforum-oslo-og-akershus-og-buskerud-dok-fagdag/
LOCATION:Quality Hotel River Station\, Drammen
CATEGORIES:Fagdag
END:VEVENT
END:VCALENDAR