BEGIN:VCALENDAR
VERSION:2.0
PRODID:-//GeoForum - ECPv6.10.0//NONSGML v1.0//EN
CALSCALE:GREGORIAN
METHOD:PUBLISH
X-ORIGINAL-URL:https://geoforum.no
X-WR-CALDESC:Arrangement for GeoForum
REFRESH-INTERVAL;VALUE=DURATION:PT1H
X-Robots-Tag:noindex
X-PUBLISHED-TTL:PT1H
BEGIN:VTIMEZONE
TZID:Europe/Oslo
BEGIN:DAYLIGHT
TZOFFSETFROM:+0100
TZOFFSETTO:+0200
TZNAME:CEST
DTSTART:20240331T010000
END:DAYLIGHT
BEGIN:STANDARD
TZOFFSETFROM:+0200
TZOFFSETTO:+0100
TZNAME:CET
DTSTART:20241027T010000
END:STANDARD
END:VTIMEZONE
BEGIN:VEVENT
DTSTART;TZID=Europe/Oslo:20240916T093000
DTEND;TZID=Europe/Oslo:20240918T170000
DTSTAMP:20260419T205842
CREATED:20240507T144354Z
LAST-MODIFIED:20240507T145229Z
UID:10011666-1726479000-1726678800@geoforum.no
SUMMARY:ECIM 2024
DESCRIPTION:The Data Strikes Back – Mastering the Force of Sharing\, Security & Smart Insights \nEcim.no \nConference – Ecim.no ( Track 7 er geospatial)
URL:https://geoforum.no/event/ecim-2024-16-18th-september-in-haugesund/
LOCATION:Maritim Hotel\, Haugesund\, Haugesund
CATEGORIES:Eksterne kurs og konferanser
END:VEVENT
END:VCALENDAR