BEGIN:VCALENDAR
VERSION:2.0
PRODID:-//GeoForum - ECPv6.10.0//NONSGML v1.0//EN
CALSCALE:GREGORIAN
METHOD:PUBLISH
X-WR-CALNAME:GeoForum
X-ORIGINAL-URL:https://geoforum.no
X-WR-CALDESC:Arrangement for GeoForum
REFRESH-INTERVAL;VALUE=DURATION:PT1H
X-Robots-Tag:noindex
X-PUBLISHED-TTL:PT1H
BEGIN:VTIMEZONE
TZID:Europe/Oslo
BEGIN:DAYLIGHT
TZOFFSETFROM:+0100
TZOFFSETTO:+0200
TZNAME:CEST
DTSTART:20240331T010000
END:DAYLIGHT
BEGIN:STANDARD
TZOFFSETFROM:+0200
TZOFFSETTO:+0100
TZNAME:CET
DTSTART:20241027T010000
END:STANDARD
END:VTIMEZONE
BEGIN:VEVENT
DTSTART;TZID=Europe/Oslo:20240910T090000
DTEND;TZID=Europe/Oslo:20240911T143000
DTSTAMP:20260419T205304
CREATED:20240808T110042Z
LAST-MODIFIED:20240808T110042Z
UID:10011673-1725958800-1726065000@geoforum.no
SUMMARY:Adresseseminar 2024
DESCRIPTION:Møtestedet for deg som jobber med adresser og adresseregister. Kartverket arrangerer også i år adresseseminaret digitalt\, men denne gangen åpner vi for at et begrenset antall deltakere kan være fysisk til stede på sendingen fra Kartverkets hovedkontor i Hønefoss. Om du deltar digitalt eller fysisk er det ingen deltakeravgift. \nLes mer på Kartverket.no \nhttps://www.kartverket.no/om-kartverket/arrangement/eiendom/adresseseminar-2024
URL:https://geoforum.no/event/adresseseminar-2024/
CATEGORIES:Webinar eksternt
END:VEVENT
END:VCALENDAR