BEGIN:VCALENDAR
VERSION:2.0
PRODID:-//GeoForum - ECPv6.10.0//NONSGML v1.0//EN
CALSCALE:GREGORIAN
METHOD:PUBLISH
X-ORIGINAL-URL:https://geoforum.no
X-WR-CALDESC:Arrangement for GeoForum
REFRESH-INTERVAL;VALUE=DURATION:PT1H
X-Robots-Tag:noindex
X-PUBLISHED-TTL:PT1H
BEGIN:VTIMEZONE
TZID:Europe/Oslo
BEGIN:DAYLIGHT
TZOFFSETFROM:+0100
TZOFFSETTO:+0200
TZNAME:CEST
DTSTART:20240331T010000
END:DAYLIGHT
BEGIN:STANDARD
TZOFFSETFROM:+0200
TZOFFSETTO:+0100
TZNAME:CET
DTSTART:20241027T010000
END:STANDARD
END:VTIMEZONE
BEGIN:VEVENT
DTSTART;TZID=Europe/Oslo:20240902T100000
DTEND;TZID=Europe/Oslo:20240902T113000
DTSTAMP:20260419T205610
CREATED:20240808T105624Z
LAST-MODIFIED:20240808T105624Z
UID:10011672-1725271200-1725276600@geoforum.no
SUMMARY:Matrikkel-mandag
DESCRIPTION:Matrikkel-mandag 2. september. Jordsameie \n  \nLes mer og meld deg på \nhttps://www.kartverket.no/om-kartverket/arrangement/eiendom/matrikkel-mandag \n 
URL:https://geoforum.no/event/matrikkel-mandag-13/
CATEGORIES:Webinar
END:VEVENT
END:VCALENDAR