BEGIN:VCALENDAR
VERSION:2.0
PRODID:-//GeoForum - ECPv6.10.0//NONSGML v1.0//EN
CALSCALE:GREGORIAN
METHOD:PUBLISH
X-ORIGINAL-URL:https://geoforum.no
X-WR-CALDESC:Arrangement for GeoForum
REFRESH-INTERVAL;VALUE=DURATION:PT1H
X-Robots-Tag:noindex
X-PUBLISHED-TTL:PT1H
BEGIN:VTIMEZONE
TZID:Europe/Oslo
BEGIN:DAYLIGHT
TZOFFSETFROM:+0100
TZOFFSETTO:+0200
TZNAME:CEST
DTSTART:20240331T010000
END:DAYLIGHT
BEGIN:STANDARD
TZOFFSETFROM:+0200
TZOFFSETTO:+0100
TZNAME:CET
DTSTART:20241027T010000
END:STANDARD
END:VTIMEZONE
BEGIN:VEVENT
DTSTART;TZID=Europe/Oslo:20240813T130000
DTEND;TZID=Europe/Oslo:20240813T134500
DTSTAMP:20260419T204659
CREATED:20240808T110818Z
LAST-MODIFIED:20240808T110818Z
UID:10011674-1723554000-1723556700@geoforum.no
SUMMARY:Nasjonvern – Hvordan bevarer vi informasjonsoverlegenheten?
DESCRIPTION:Arendalsuka \nDen endrede geopolitiske situasjonen stiller økte krav til innsamling og formidling av data knyttet til beredskap og totalforsvar. Samtidig må vi sikre at kun de som skal ha data om kritisk infrastruktur får tilgang til dem. Norge er blant landene i verden som har de mest detaljerte kartdataene på fastlandet. Det krever at vi ser med nye øyne på hva som skal deles åpent\, hva som skal holdes tilbake og hvordan vi sikrer god informasjonssikkerhet. Hvordan veier vi sikkerhetsinteresser opp mot ønsket om å skape næringsutvikling basert på offentlige data? \nTil debatt møtes: \n\nKnut K. Bjørgaas\, Direktør Landdivisjon\, Kartverket\nBirger S. Clementsen\, Direktør innovasjon og støttetjenester\, Stavanger Kommune\nArne Christian Haugstøyl\, Direktør\, NSM\ntbc\, Forsvaret\nTrine Lise Sundnes\, Stortingsrepresentant\, Arbeiderpartiet\nMagnus Brøyn\, Debattleder\, Coxit
URL:https://geoforum.no/event/nasjonvern-hvordan-bevarer-vi-informasjonsoverlegenheten/
CATEGORIES:Arendalsuka
END:VEVENT
END:VCALENDAR