BEGIN:VCALENDAR
VERSION:2.0
PRODID:-//GeoForum - ECPv6.10.0//NONSGML v1.0//EN
CALSCALE:GREGORIAN
METHOD:PUBLISH
X-ORIGINAL-URL:https://geoforum.no
X-WR-CALDESC:Arrangement for GeoForum
REFRESH-INTERVAL;VALUE=DURATION:PT1H
X-Robots-Tag:noindex
X-PUBLISHED-TTL:PT1H
BEGIN:VTIMEZONE
TZID:Europe/Oslo
BEGIN:DAYLIGHT
TZOFFSETFROM:+0100
TZOFFSETTO:+0200
TZNAME:CEST
DTSTART:20240331T010000
END:DAYLIGHT
BEGIN:STANDARD
TZOFFSETFROM:+0200
TZOFFSETTO:+0100
TZNAME:CET
DTSTART:20241027T010000
END:STANDARD
END:VTIMEZONE
BEGIN:VEVENT
DTSTART;TZID=Europe/Oslo:20240603T080000
DTEND;TZID=Europe/Oslo:20240604T170000
DTSTAMP:20260419T160722
CREATED:20240221T075327Z
LAST-MODIFIED:20240221T075654Z
UID:10011515-1717401600-1717520400@geoforum.no
SUMMARY:Sommermøte GI Norden i Oslo
DESCRIPTION:
URL:https://geoforum.no/event/sommermote-gi-norden-i-oslo/
END:VEVENT
BEGIN:VEVENT
DTSTART;TZID=Europe/Oslo:20240604T080000
DTEND;TZID=Europe/Oslo:20240605T170000
DTSTAMP:20260419T160722
CREATED:20240130T083614Z
LAST-MODIFIED:20240130T083614Z
UID:10011643-1717488000-1717606800@geoforum.no
SUMMARY:Kurs i Oppmålingsfunksjonalitet i Gemini Terrain\, innføring i SiteSurvey-modulen\, 4.-5. juni\, Bergen
DESCRIPTION:Kurs i Oppmålingsfunksjonalitet i Gemini Terrain\, innføring i SiteSurvey-modulen\, 4.-5. juni\, Bergen\nKurs i Oppmålingsfunksjonalitet 4.-5. juni – Volue
URL:https://geoforum.no/event/kurs-i-oppmalingsfunksjonalitet-i-gemini-terrain-innforing-i-sitesurvey-modulen-4-5-juni-bergen/
LOCATION:Bergen
END:VEVENT
END:VCALENDAR