BEGIN:VCALENDAR
VERSION:2.0
PRODID:-//GeoForum - ECPv6.10.0//NONSGML v1.0//EN
CALSCALE:GREGORIAN
METHOD:PUBLISH
X-ORIGINAL-URL:https://geoforum.no
X-WR-CALDESC:Arrangement for GeoForum
REFRESH-INTERVAL;VALUE=DURATION:PT1H
X-Robots-Tag:noindex
X-PUBLISHED-TTL:PT1H
BEGIN:VTIMEZONE
TZID:Europe/Oslo
BEGIN:DAYLIGHT
TZOFFSETFROM:+0100
TZOFFSETTO:+0200
TZNAME:CEST
DTSTART:20240331T010000
END:DAYLIGHT
BEGIN:STANDARD
TZOFFSETFROM:+0200
TZOFFSETTO:+0100
TZNAME:CET
DTSTART:20241027T010000
END:STANDARD
END:VTIMEZONE
BEGIN:VEVENT
DTSTART;TZID=Europe/Oslo:20240506T100000
DTEND;TZID=Europe/Oslo:20240506T113000
DTSTAMP:20260419T144400
CREATED:20240129T122424Z
LAST-MODIFIED:20240129T122424Z
UID:10011633-1714989600-1714995000@geoforum.no
SUMMARY:Matrikkel-mandag
DESCRIPTION:Matrikkel-mandag er en faglig digital møteplass for deg som jobber med matrikkelen. Her får du en oversikt over tilbudet og hvordan du kan delta. \n\n\n\n\nMatrikkel-mandag er et faglig tilbud fra Kartverket med et ønske om å skape en digital møteplass. Tilbudet er åpent for alle\, men vil spisse seg mot arbeidet som utføres av landmålere og saksbehandlere som fører matrikkelen. \nDette er ett av tiltakene for å bidra til økt datakvalitet i matrikkelen. Det er utviklet på bakgrunn av innspill i forbindelse med arbeidet med datakvalitetsstrategien og tilbakemeldinger fra deltagere på kurs i matrikkelføring. \n6. mai\nLenke til påmelding.
URL:https://geoforum.no/event/matrikkel-mandag-11/
LOCATION:Teams
CATEGORIES:Webinar eksternt
END:VEVENT
END:VCALENDAR