BEGIN:VCALENDAR
VERSION:2.0
PRODID:-//GeoForum - ECPv6.10.0//NONSGML v1.0//EN
CALSCALE:GREGORIAN
METHOD:PUBLISH
X-ORIGINAL-URL:https://geoforum.no
X-WR-CALDESC:Arrangement for GeoForum
REFRESH-INTERVAL;VALUE=DURATION:PT1H
X-Robots-Tag:noindex
X-PUBLISHED-TTL:PT1H
BEGIN:VTIMEZONE
TZID:Europe/Oslo
BEGIN:DAYLIGHT
TZOFFSETFROM:+0100
TZOFFSETTO:+0200
TZNAME:CEST
DTSTART:20230326T010000
END:DAYLIGHT
BEGIN:STANDARD
TZOFFSETFROM:+0200
TZOFFSETTO:+0100
TZNAME:CET
DTSTART:20231029T010000
END:STANDARD
END:VTIMEZONE
BEGIN:VEVENT
DTSTART;TZID=Europe/Oslo:20230327T093000
DTEND;TZID=Europe/Oslo:20230327T110000
DTSTAMP:20260419T143230
CREATED:20221213T072253Z
LAST-MODIFIED:20221222T110647Z
UID:10011552-1679909400-1679914800@geoforum.no
SUMMARY:Webinar: Datainnhold i FKB 5.0v
DESCRIPTION:Kartverket inviterer til webinar.  Der vi de informere om endringer i datainnholdet i FKB 5.0. Dette er aktuelt for alle som bruker\, og særlig forvalter\, FKB-data. \nMer informasjon om webinaret og hvordan melde seg på finner dere på Kartverket.no
URL:https://geoforum.no/event/webinar-datainnhold-i-fkb-5-0v/
CATEGORIES:Webinar
END:VEVENT
END:VCALENDAR