BEGIN:VCALENDAR
VERSION:2.0
PRODID:-//GeoForum - ECPv6.10.0//NONSGML v1.0//EN
CALSCALE:GREGORIAN
METHOD:PUBLISH
X-WR-CALNAME:GeoForum
X-ORIGINAL-URL:https://geoforum.no
X-WR-CALDESC:Arrangement for GeoForum
REFRESH-INTERVAL;VALUE=DURATION:PT1H
X-Robots-Tag:noindex
X-PUBLISHED-TTL:PT1H
BEGIN:VTIMEZONE
TZID:Europe/Oslo
BEGIN:DAYLIGHT
TZOFFSETFROM:+0100
TZOFFSETTO:+0200
TZNAME:CEST
DTSTART:20230326T010000
END:DAYLIGHT
BEGIN:STANDARD
TZOFFSETFROM:+0200
TZOFFSETTO:+0100
TZNAME:CET
DTSTART:20231029T010000
END:STANDARD
END:VTIMEZONE
BEGIN:VEVENT
DTSTART;TZID=Europe/Oslo:20230206T093000
DTEND;TZID=Europe/Oslo:20230207T140000
DTSTAMP:20260419T174444
CREATED:20221111T140158Z
LAST-MODIFIED:20230131T140221Z
UID:10011539-1675675800-1675778400@geoforum.no
SUMMARY:Lokale geomatikkdager i Oslo og Akershus og Buskerud
DESCRIPTION:Vi har denne gangen gleden av invitere til Lokale Geomatikkdager for Geoforum Buskerud\, Oslo og Akershus på Storefjell på Golsfjellet. \nVi ønsker å legge til rette for et faglig påfyll i en sosial setting i vinterlige omgivelser. Som tidligere legger vi til rette for at vi kan bruke fjellet enten du vil gå på ski eller til fots. \nDet vil være mulig å reise kollektivt der vi kan sørge for å bli hentet på Gol stasjon søndag og tilbake tirsdag ettermiddag. Togbillett bestilles av den enkelte. \nProgram for dagene:\nProgram\nInformasjon om foredragene er planlagt i egen app. \nPåmelding:\nMeld deg på her
URL:https://geoforum.no/event/lokale-geomatikkdager-i-oslo-og-akershus-og-buskerud/
CATEGORIES:Lokale geomatikkdager
END:VEVENT
BEGIN:VEVENT
DTSTART;TZID=Europe/Oslo:20230207T080000
DTEND;TZID=Europe/Oslo:20230207T170000
DTSTAMP:20260419T174444
CREATED:20221130T122549Z
LAST-MODIFIED:20230119T093208Z
UID:10011548-1675756800-1675789200@geoforum.no
SUMMARY:GeoForum Telemark fagdag/årsmøte - Digitalt
DESCRIPTION:
URL:https://geoforum.no/event/geoforum-telemark-fagdag-arsmote/
LOCATION:Bø Hotell\, Gullbringvegen 32\, Bø i Telemark\, 3800
CATEGORIES:Årsmøte
GEO:59.4116358;9.0619341
X-APPLE-STRUCTURED-LOCATION;VALUE=URI;X-ADDRESS=Bø Hotell Gullbringvegen 32 Bø i Telemark 3800;X-APPLE-RADIUS=500;X-TITLE=Gullbringvegen 32:geo:9.0619341,59.4116358
END:VEVENT
BEGIN:VEVENT
DTSTART;TZID=Europe/Oslo:20230207T080000
DTEND;TZID=Europe/Oslo:20230208T170000
DTSTAMP:20260419T174444
CREATED:20230109T121439Z
LAST-MODIFIED:20230109T121439Z
UID:10011568-1675756800-1675875600@geoforum.no
SUMMARY:Kurs i Gemini Terrain: SOSI: FKB- og NVDB-leveranse
DESCRIPTION:
URL:https://geoforum.no/event/kurs-i-gemini-terrain-sosi-fkb-og-nvdb-leveranse/
END:VEVENT
END:VCALENDAR