BEGIN:VCALENDAR
VERSION:2.0
PRODID:-//GeoForum - ECPv6.10.0//NONSGML v1.0//EN
CALSCALE:GREGORIAN
METHOD:PUBLISH
X-ORIGINAL-URL:https://geoforum.no
X-WR-CALDESC:Arrangement for GeoForum
REFRESH-INTERVAL;VALUE=DURATION:PT1H
X-Robots-Tag:noindex
X-PUBLISHED-TTL:PT1H
BEGIN:VTIMEZONE
TZID:Europe/Oslo
BEGIN:DAYLIGHT
TZOFFSETFROM:+0100
TZOFFSETTO:+0200
TZNAME:CEST
DTSTART:20220327T010000
END:DAYLIGHT
BEGIN:STANDARD
TZOFFSETFROM:+0200
TZOFFSETTO:+0100
TZNAME:CET
DTSTART:20221030T010000
END:STANDARD
END:VTIMEZONE
BEGIN:VEVENT
DTSTART;TZID=Europe/Oslo:20221207T080000
DTEND;TZID=Europe/Oslo:20221207T170000
DTSTAMP:20260419T214603
CREATED:20220819T083113Z
LAST-MODIFIED:20221121T110223Z
UID:10011527-1670400000-1670432400@geoforum.no
SUMMARY:FOSS4G
DESCRIPTION:Informasjon: \nProgram for FOSS4G-NOR 22 \n  \nPåmelding
URL:https://geoforum.no/event/foss4g/
LOCATION:Felix konferansesenter\, Aker brygge\, Bryggetorget 3\, Oslo\, 0125
CATEGORIES:Konferanse
GEO:59.9101662;10.7250782
X-APPLE-STRUCTURED-LOCATION;VALUE=URI;X-ADDRESS=Felix konferansesenter Aker brygge Bryggetorget 3 Oslo 0125;X-APPLE-RADIUS=500;X-TITLE=Bryggetorget 3:geo:10.7250782,59.9101662
END:VEVENT
END:VCALENDAR