BEGIN:VCALENDAR
VERSION:2.0
PRODID:-//GeoForum - ECPv6.10.0//NONSGML v1.0//EN
CALSCALE:GREGORIAN
METHOD:PUBLISH
X-ORIGINAL-URL:https://geoforum.no
X-WR-CALDESC:Arrangement for GeoForum
REFRESH-INTERVAL;VALUE=DURATION:PT1H
X-Robots-Tag:noindex
X-PUBLISHED-TTL:PT1H
BEGIN:VTIMEZONE
TZID:Europe/Oslo
BEGIN:DAYLIGHT
TZOFFSETFROM:+0100
TZOFFSETTO:+0200
TZNAME:CEST
DTSTART:20220327T010000
END:DAYLIGHT
BEGIN:STANDARD
TZOFFSETFROM:+0200
TZOFFSETTO:+0100
TZNAME:CET
DTSTART:20221030T010000
END:STANDARD
END:VTIMEZONE
BEGIN:VEVENT
DTSTART;TZID=Europe/Oslo:20221024T093000
DTEND;TZID=Europe/Oslo:20221025T150000
DTSTAMP:20260420T011326
CREATED:20220522T195337Z
LAST-MODIFIED:20220522T195338Z
UID:10011381-1666603800-1666710000@geoforum.no
SUMMARY:Norkart brukermøte 2022
DESCRIPTION:Norkarts Brukermøte Plan og Geodata 2022 arrangeres i år på Quality Hotel Expo på Fornebu – mandag 24. til tirsdag 25. oktober. \nMer informasjon på Norkart.no
URL:https://geoforum.no/event/norkart-brukermote-2022/
CATEGORIES:Eksterne kurs og konferanser
END:VEVENT
END:VCALENDAR