BEGIN:VCALENDAR
VERSION:2.0
PRODID:-//GeoForum - ECPv6.10.0//NONSGML v1.0//EN
CALSCALE:GREGORIAN
METHOD:PUBLISH
X-WR-CALNAME:GeoForum
X-ORIGINAL-URL:https://geoforum.no
X-WR-CALDESC:Arrangement for GeoForum
REFRESH-INTERVAL;VALUE=DURATION:PT1H
X-Robots-Tag:noindex
X-PUBLISHED-TTL:PT1H
BEGIN:VTIMEZONE
TZID:Europe/Oslo
BEGIN:DAYLIGHT
TZOFFSETFROM:+0100
TZOFFSETTO:+0200
TZNAME:CEST
DTSTART:20220327T010000
END:DAYLIGHT
BEGIN:STANDARD
TZOFFSETFROM:+0200
TZOFFSETTO:+0100
TZNAME:CET
DTSTART:20221030T010000
END:STANDARD
END:VTIMEZONE
BEGIN:VEVENT
DTSTART;TZID=Europe/Oslo:20221017T093000
DTEND;TZID=Europe/Oslo:20221018T150000
DTSTAMP:20260420T011246
CREATED:20220214T145318Z
LAST-MODIFIED:20221012T070949Z
UID:10011493-1665999000-1666105200@geoforum.no
SUMMARY:Regionale geomatikkdager for Vestfold\, Østfold og Telemark 2022
DESCRIPTION:GeoForum Telemark\, Vestfold og Østfold inviterer til regionale geomatikkdager i Tønsberg. \nInvitasjon til Regionale Geomatikkdager 2022 i Tønsberg \nProgram \nPåmelding
URL:https://geoforum.no/event/regionale-geomatikkdager-vestfold-ostfold-og-telemark/
CATEGORIES:Lokale geomatikkdager
END:VEVENT
BEGIN:VEVENT
DTSTART;TZID=Europe/Oslo:20221017T093000
DTEND;TZID=Europe/Oslo:20221018T150000
DTSTAMP:20260420T011246
CREATED:20220522T230535Z
LAST-MODIFIED:20220522T230537Z
UID:10011510-1665999000-1666105200@geoforum.no
SUMMARY:Den Kloke Teknologi 2022
DESCRIPTION:GeoForum inviterer til DKT 2022 på The Hub i Oslo 17.-18. oktober. \nProgrammet er under utarbeidelse. All informasjon finnes på DenKlokeTeknologi.no
URL:https://geoforum.no/event/den-kloke-teknologi-2022/
LOCATION:The Hub\, Oslo
CATEGORIES:Konferanse
END:VEVENT
END:VCALENDAR