BEGIN:VCALENDAR
VERSION:2.0
PRODID:-//GeoForum - ECPv6.10.0//NONSGML v1.0//EN
CALSCALE:GREGORIAN
METHOD:PUBLISH
X-ORIGINAL-URL:https://geoforum.no
X-WR-CALDESC:Arrangement for GeoForum
REFRESH-INTERVAL;VALUE=DURATION:PT1H
X-Robots-Tag:noindex
X-PUBLISHED-TTL:PT1H
BEGIN:VTIMEZONE
TZID:Europe/Oslo
BEGIN:DAYLIGHT
TZOFFSETFROM:+0100
TZOFFSETTO:+0200
TZNAME:CEST
DTSTART:20220327T010000
END:DAYLIGHT
BEGIN:STANDARD
TZOFFSETFROM:+0200
TZOFFSETTO:+0100
TZNAME:CET
DTSTART:20221030T010000
END:STANDARD
END:VTIMEZONE
BEGIN:VEVENT
DTSTART;TZID=Europe/Oslo:20220929T120000
DTEND;TZID=Europe/Oslo:20220929T150000
DTSTAMP:20260420T011458
CREATED:20220824T181538Z
LAST-MODIFIED:20220923T104452Z
UID:10011529-1664452800-1664463600@geoforum.no
SUMMARY:Fagdag 3D
DESCRIPTION:GeoForum Oslo og Akershus inviterer til fagdag bruk av 3D-modeller i GIS på Kunnskapssenteret i Sandvika \n \nVi ser at det begynner å bli mer oversending av bygningsmodeller (BIM) inn til kommunene\, men det er utfordringer med hvordan vi får dette inn i GIS programvarene. Arbeidstittelen på fagdagen er «BIM i GIS: Hvordan behandle og forvalte 3D-modeller fra ulike leverandører»  \nDenne fagdagen håper vi at kan være starten på et 3D-forum hvor det kan utveksles ideer og løsninger gjennom diskusjoner og jevnlige møter/arrangementer.\nHer vil to kommuner snakke om sine erfaringer og viser eksempler og tre leverandører snakke om sine løsninger og dataflyt fra BIM til GIS \n12.00 – 12.05 Velkommen og informere om hva 3D-forum skal være\n12.05 – 12.35 Asker kommune v/Rebekka Fiksdal: Innføring av verktøy og rutiner for bruk av 3D i forskjellige avdelinger\n12.35 – 13.05 Geodata v/Jørn Kristiansen\n13.05 – 13.15 Pause\n13.15 – 13.45 Bærum kommune v/Linn Francis: Test av 3D i arbeid med reguleringsplan\n13.45 – 14.15 NOIS v/Kjell Sandal\n14.15 – 14.20 Pause\n14.20 – 14.50 Norkart v/Sigbjørn Tillerli Herstad\n14.50 – 15.00 Oppsummering og veien videre om 3D-forum \n15.00 – 15.30 Åpent for diskusjon/prat for de som ønsker det\nEtter fagdagen legger vi opp til en uformell samling ute i Sandvika for de som ønsker å fortsette praten videre. \nMeld deg på her https://geoforum.pameldingssystem.no/fagdag-3d-geoforum-oslo-og-akershus\nPåmeldingsfrist: 26. september \nDeltakeravgiften er på kr 300\,- for alle.
URL:https://geoforum.no/event/fagdag-3d/
CATEGORIES:Temadag lokalt
END:VEVENT
END:VCALENDAR