BEGIN:VCALENDAR
VERSION:2.0
PRODID:-//GeoForum - ECPv6.10.0//NONSGML v1.0//EN
CALSCALE:GREGORIAN
METHOD:PUBLISH
X-ORIGINAL-URL:https://geoforum.no
X-WR-CALDESC:Arrangement for GeoForum
REFRESH-INTERVAL;VALUE=DURATION:PT1H
X-Robots-Tag:noindex
X-PUBLISHED-TTL:PT1H
BEGIN:VTIMEZONE
TZID:Europe/Oslo
BEGIN:DAYLIGHT
TZOFFSETFROM:+0100
TZOFFSETTO:+0200
TZNAME:CEST
DTSTART:20220327T010000
END:DAYLIGHT
BEGIN:STANDARD
TZOFFSETFROM:+0200
TZOFFSETTO:+0100
TZNAME:CET
DTSTART:20221030T010000
END:STANDARD
END:VTIMEZONE
BEGIN:VEVENT
DTSTART;TZID=Europe/Oslo:20220927T130000
DTEND;TZID=Europe/Oslo:20220927T143000
DTSTAMP:20260420T044511
CREATED:20220823T073445Z
LAST-MODIFIED:20220920T082845Z
UID:10011528-1664283600-1664289000@geoforum.no
SUMMARY:Innovasjon i bruk av geografiske data
DESCRIPTION:KDD og Nasjonalt geodataråd har igjen utlyst konkurranse for å finne gode eksempler på bruk av geografiske data. For å promotere konkurransen inviterer vi  til webinar den 27. september. \nWebinaret er gratis. \nPÅMELDING \n13.00 Velkommen ved Roar Skålin\, Nasjonalt geodataråd / Meteorologisk institutt \n  \n13.05 Avdekker skjult skipstrafikk med maskinlæring i satellittbilder \nVake har utviklet en løsning som gir innsikt i skjult skipstrafikk gjennom storskala analyse av satellittdata. Av ulike grunner forsøker enkelte skip å unngå å bli sporet. Vake lager en løsning som avdekker skjult aktivitet på havene gjennom sammenstilling og analyse av satellittdata. Til dette benyttes algoritmer basert på maskinlæring\, og satellittdataene kombineres med andre datakilder\, som AIS (Automatic Identification System for skip).\nBeste løsning som kombinerer data til ny kunnskap i 2021 \nAdrian Tofting\, Vake \n  \n13.25 Fiskher AS har utviklet en app som forteller fritidsfiskeren hva man kan fiske hvor og hvordan. \nVed hjelp av Kartverkets kartløsninger har Fiskher kartlagt hele Norges kyst\, merket 44 000 fiskeområder (17 fiskeslag) og laget et innovativt produkt for fritidsfiskere. Beste kommersielle tjeneste eller produkt. \nTrond Are Gjone\, Fiskher AS \n  \n13.45 Sommerstudenter fra Geodata \nHood: en plattform der unge kan engasjere seg i stedsutvikling. \nGjennom sommeren har 5 studenter på Geodata’s kontorer jobbet for å skape en geografisk løsning under temaet Medvirkning. Resultatet\, prototypen Hood\, er en plattform som oppfordrer unge til å engasjere seg i sitt nærmiljø\, med utgangspunkt i geografisk informasjon. \nAleksander Knutsen\, Ole Markus Moen\, Sigrid Strand\, Sandra Skiaker og Hugo Bergmann \n14.10 Oppsummering og avslutning \n 
URL:https://geoforum.no/event/innovasjon-i-bruk-av-geografiske-data/
CATEGORIES:Webinar
END:VEVENT
END:VCALENDAR