BEGIN:VCALENDAR
VERSION:2.0
PRODID:-//GeoForum - ECPv6.10.0//NONSGML v1.0//EN
CALSCALE:GREGORIAN
METHOD:PUBLISH
X-ORIGINAL-URL:https://geoforum.no
X-WR-CALDESC:Arrangement for GeoForum
REFRESH-INTERVAL;VALUE=DURATION:PT1H
X-Robots-Tag:noindex
X-PUBLISHED-TTL:PT1H
BEGIN:VTIMEZONE
TZID:Europe/Oslo
BEGIN:DAYLIGHT
TZOFFSETFROM:+0100
TZOFFSETTO:+0200
TZNAME:CEST
DTSTART:20220327T010000
END:DAYLIGHT
BEGIN:STANDARD
TZOFFSETFROM:+0200
TZOFFSETTO:+0100
TZNAME:CET
DTSTART:20221030T010000
END:STANDARD
END:VTIMEZONE
BEGIN:VEVENT
DTSTART;TZID=Europe/Oslo:20220921T090000
DTEND;TZID=Europe/Oslo:20220922T151500
DTSTAMP:20260420T044510
CREATED:20220522T201342Z
LAST-MODIFIED:20220522T201622Z
UID:10011506-1663750800-1663859700@geoforum.no
SUMMARY:Eiendomsrettseminar 2022
DESCRIPTION:Juridisk tjeneste i Kartverket inviterer igjen til eiendomsrettsseminar etter en koronapause. Seminaret holdes 21.-22. september 2022 på Sundvolden Hotel. \nLink til mer informasjon\, påmelding og program på Kartverket.no
URL:https://geoforum.no/event/eiendomsrettseminar-2022/
CATEGORIES:Eksterne kurs og konferanser
END:VEVENT
END:VCALENDAR