BEGIN:VCALENDAR
VERSION:2.0
PRODID:-//GeoForum - ECPv6.10.0//NONSGML v1.0//EN
CALSCALE:GREGORIAN
METHOD:PUBLISH
X-WR-CALNAME:GeoForum
X-ORIGINAL-URL:https://geoforum.no
X-WR-CALDESC:Arrangement for GeoForum
REFRESH-INTERVAL;VALUE=DURATION:PT1H
X-Robots-Tag:noindex
X-PUBLISHED-TTL:PT1H
BEGIN:VTIMEZONE
TZID:Europe/Oslo
BEGIN:DAYLIGHT
TZOFFSETFROM:+0100
TZOFFSETTO:+0200
TZNAME:CEST
DTSTART:20220327T010000
END:DAYLIGHT
BEGIN:STANDARD
TZOFFSETFROM:+0200
TZOFFSETTO:+0100
TZNAME:CET
DTSTART:20221030T010000
END:STANDARD
END:VTIMEZONE
BEGIN:VEVENT
DTSTART;TZID=Europe/Oslo:20220913T093000
DTEND;TZID=Europe/Oslo:20220914T150000
DTSTAMP:20260420T025340
CREATED:20220603T190015Z
LAST-MODIFIED:20220603T190016Z
UID:10011514-1663061400-1663167600@geoforum.no
SUMMARY:Adresseseminar 2022
DESCRIPTION:Kartverket inviterer til årets adresseseminar som er møtestedet for deg som jobber med adresser og adresseregister.\nI år blir det digitalt seminar. Årets arrangement finner sted tirsdag 13. og onsdag 14. september. \n  \nMer informasjon finnes på Kartverket.no
URL:https://geoforum.no/event/adresseseminar-2022/
CATEGORIES:Eksterne kurs og konferanser
END:VEVENT
END:VCALENDAR