BEGIN:VCALENDAR
VERSION:2.0
PRODID:-//GeoForum - ECPv6.10.0//NONSGML v1.0//EN
CALSCALE:GREGORIAN
METHOD:PUBLISH
X-WR-CALNAME:GeoForum
X-ORIGINAL-URL:https://geoforum.no
X-WR-CALDESC:Arrangement for GeoForum
REFRESH-INTERVAL;VALUE=DURATION:PT1H
X-Robots-Tag:noindex
X-PUBLISHED-TTL:PT1H
BEGIN:VTIMEZONE
TZID:Europe/Oslo
BEGIN:DAYLIGHT
TZOFFSETFROM:+0100
TZOFFSETTO:+0200
TZNAME:CEST
DTSTART:20220327T010000
END:DAYLIGHT
BEGIN:STANDARD
TZOFFSETFROM:+0200
TZOFFSETTO:+0100
TZNAME:CET
DTSTART:20221030T010000
END:STANDARD
END:VTIMEZONE
BEGIN:VEVENT
DTSTART;TZID=Europe/Oslo:20220607T090000
DTEND;TZID=Europe/Oslo:20220607T103000
DTSTAMP:20260420T080440
CREATED:20220522T225556Z
LAST-MODIFIED:20220522T225556Z
UID:10011508-1654592400-1654597800@geoforum.no
SUMMARY:Overgang til FKB 5.0\, hvordan påvirker det meg?
DESCRIPTION:Geovekst inviterer til webinar om FKB 5.0. Vi ser på hvilke følger overgangen vil ha for deg som bruker eller forvalter FKB-data. \nMer informasjon på Kartverket.no
URL:https://geoforum.no/event/overgang-til-fkb-5-0-hvordan-pavirker-det-meg/
CATEGORIES:Webinar eksternt
END:VEVENT
END:VCALENDAR