BEGIN:VCALENDAR
VERSION:2.0
PRODID:-//GeoForum - ECPv6.10.0//NONSGML v1.0//EN
CALSCALE:GREGORIAN
METHOD:PUBLISH
X-ORIGINAL-URL:https://geoforum.no
X-WR-CALDESC:Arrangement for GeoForum
REFRESH-INTERVAL;VALUE=DURATION:PT1H
X-Robots-Tag:noindex
X-PUBLISHED-TTL:PT1H
BEGIN:VTIMEZONE
TZID:Europe/Oslo
BEGIN:DAYLIGHT
TZOFFSETFROM:+0100
TZOFFSETTO:+0200
TZNAME:CEST
DTSTART:20220327T010000
END:DAYLIGHT
BEGIN:STANDARD
TZOFFSETFROM:+0200
TZOFFSETTO:+0100
TZNAME:CET
DTSTART:20221030T010000
END:STANDARD
END:VTIMEZONE
BEGIN:VEVENT
DTSTART;TZID=Europe/Oslo:20220427T093000
DTEND;TZID=Europe/Oslo:20220428T153000
DTSTAMP:20260420T093633
CREATED:20210903T073834Z
LAST-MODIFIED:20220308T144905Z
UID:10011472-1651051800-1651159800@geoforum.no
SUMMARY:Lokale geomatikkdager i Innlandet 2022
DESCRIPTION:Styret i GeoForum Innlandet har gleden av å ønske dere velkommen til de lokale geomatikkdagene i 2022. Endelig kan vi møtes igjen\, til en faglig og sosial samling rundt fagområdet for geomatikk. Scandic Hamar blir disse dagene arena for faglig påfyll\, diskusjoner og problemløsing\, og ikke minst mulighet for å treffe kjente og nye kollegaer i regionen. Vi har satt sammen et spennende program som vi mener speiler godt det som skjer innen geomatikk-faget nasjonalt og i regionen. Vi håper vi kan gi dere 2 inspirerende dager i godt fagmiljø. \n  \nFå med deg dine kollegaer og meld deg på våre lokale geomatikkdager 2022! \nProgram \nPåmelding
URL:https://geoforum.no/event/lokale-geomatikkdager-i-innlandet-2022/
CATEGORIES:Lokale geomatikkdager
END:VEVENT
BEGIN:VEVENT
DTSTART;TZID=Europe/Oslo:20220427T140000
DTEND;TZID=Europe/Oslo:20220427T160000
DTSTAMP:20260420T093633
CREATED:20220426T072158Z
LAST-MODIFIED:20220426T072158Z
UID:10011373-1651068000-1651075200@geoforum.no
SUMMARY:BA-Nettverket Nettverkstreff
DESCRIPTION:Bruk av IFC i vegprosjekter\, Innblikk i Nye Veier sitt digitale driftsstøttesystem (DDS) \n  \nLes mer og link til påmelding
URL:https://geoforum.no/event/ba-nettverket-nettverkstreff/
CATEGORIES:Webinar eksternt
END:VEVENT
END:VCALENDAR