BEGIN:VCALENDAR
VERSION:2.0
PRODID:-//GeoForum - ECPv6.10.0//NONSGML v1.0//EN
CALSCALE:GREGORIAN
METHOD:PUBLISH
X-WR-CALNAME:GeoForum
X-ORIGINAL-URL:https://geoforum.no
X-WR-CALDESC:Arrangement for GeoForum
REFRESH-INTERVAL;VALUE=DURATION:PT1H
X-Robots-Tag:noindex
X-PUBLISHED-TTL:PT1H
BEGIN:VTIMEZONE
TZID:Europe/Oslo
BEGIN:DAYLIGHT
TZOFFSETFROM:+0100
TZOFFSETTO:+0200
TZNAME:CEST
DTSTART:20220327T010000
END:DAYLIGHT
BEGIN:STANDARD
TZOFFSETFROM:+0200
TZOFFSETTO:+0100
TZNAME:CET
DTSTART:20221030T010000
END:STANDARD
END:VTIMEZONE
BEGIN:VEVENT
DTSTART;TZID=Europe/Oslo:20220421T080000
DTEND;TZID=Europe/Oslo:20220421T170000
DTSTAMP:20260420T105403
CREATED:20220322T115306Z
LAST-MODIFIED:20220322T115306Z
UID:10011500-1650528000-1650560400@geoforum.no
SUMMARY:FME World Tour 2022 på MESH Youngstorget 21. april
DESCRIPTION:Norkart arrangerer FME World Tour 2022 på MESH Youngstorget i Oslo 21.april
URL:https://geoforum.no/event/fme-world-tour-2022-pa-mesh-youngstorget-21-april/
LOCATION:MESH Youngstorget\, Oslo
END:VEVENT
BEGIN:VEVENT
DTSTART;TZID=Europe/Oslo:20220421T094500
DTEND;TZID=Europe/Oslo:20220421T151500
DTSTAMP:20260420T105403
CREATED:20211101T082430Z
LAST-MODIFIED:20220407T131956Z
UID:10011487-1650534300-1650554100@geoforum.no
SUMMARY:Fagdag og årsmøte i Trøndelag 2022
DESCRIPTION:GeoForum Trøndelag inviterer til fagdag og årsmøte på Scandic Hell \nProgram \nPåmelding
URL:https://geoforum.no/event/fagdag-i-trondelag-2022/
LOCATION:Scandic Hell Hotel\, Sandfærhus 22\, Stjørdal\, 7500
CATEGORIES:Lokale geomatikkdager
GEO:63.4491051;10.9127574
X-APPLE-STRUCTURED-LOCATION;VALUE=URI;X-ADDRESS=Scandic Hell Hotel Sandfærhus 22 Stjørdal 7500;X-APPLE-RADIUS=500;X-TITLE=Sandfærhus 22:geo:10.9127574,63.4491051
END:VEVENT
END:VCALENDAR