BEGIN:VCALENDAR
VERSION:2.0
PRODID:-//GeoForum - ECPv6.10.0//NONSGML v1.0//EN
CALSCALE:GREGORIAN
METHOD:PUBLISH
X-ORIGINAL-URL:https://geoforum.no
X-WR-CALDESC:Arrangement for GeoForum
REFRESH-INTERVAL;VALUE=DURATION:PT1H
X-Robots-Tag:noindex
X-PUBLISHED-TTL:PT1H
BEGIN:VTIMEZONE
TZID:Europe/Oslo
BEGIN:DAYLIGHT
TZOFFSETFROM:+0100
TZOFFSETTO:+0200
TZNAME:CEST
DTSTART:20220327T010000
END:DAYLIGHT
BEGIN:STANDARD
TZOFFSETFROM:+0200
TZOFFSETTO:+0100
TZNAME:CET
DTSTART:20221030T010000
END:STANDARD
END:VTIMEZONE
BEGIN:VEVENT
DTSTART;TZID=Europe/Oslo:20220301T080000
DTEND;TZID=Europe/Oslo:20220302T140000
DTSTAMP:20260420T123634
CREATED:20201209T072706Z
LAST-MODIFIED:20220125T145956Z
UID:10011425-1646121600-1646229600@geoforum.no
SUMMARY:Lokale plan- og kartdager 2022 avlyses
DESCRIPTION:Det blir dessverre ikke lokale plan- og kartdager på Hotel Alexandra i Loen i 2022.
URL:https://geoforum.no/event/lokale-plan-og-kartdager-2022/
CATEGORIES:Lokale geomatikkdager
END:VEVENT
END:VCALENDAR