BEGIN:VCALENDAR
VERSION:2.0
PRODID:-//GeoForum - ECPv6.10.0//NONSGML v1.0//EN
CALSCALE:GREGORIAN
METHOD:PUBLISH
X-ORIGINAL-URL:https://geoforum.no
X-WR-CALDESC:Arrangement for GeoForum
REFRESH-INTERVAL;VALUE=DURATION:PT1H
X-Robots-Tag:noindex
X-PUBLISHED-TTL:PT1H
BEGIN:VTIMEZONE
TZID:Europe/Oslo
BEGIN:DAYLIGHT
TZOFFSETFROM:+0100
TZOFFSETTO:+0200
TZNAME:CEST
DTSTART:20210328T010000
END:DAYLIGHT
BEGIN:STANDARD
TZOFFSETFROM:+0200
TZOFFSETTO:+0100
TZNAME:CET
DTSTART:20211031T010000
END:STANDARD
END:VTIMEZONE
BEGIN:VEVENT
DTSTART;TZID=Europe/Oslo:20211208T093000
DTEND;TZID=Europe/Oslo:20211208T110000
DTSTAMP:20260420T181039
CREATED:20211116T182015Z
LAST-MODIFIED:20211116T182016Z
UID:10011488-1638955800-1638961200@geoforum.no
SUMMARY:Nordisk webinar om droner
DESCRIPTION:GI Norden arrangerer gratis webinar om bruk av droner og dronedata i nordiske kommuner. \nDet blir presentasjoner fra svenske\, danske\, finske og norske kommuner\, som vil vise litt av spennvidden av hva dronedata (kan) brukes til. \nWebinaret gjennomføres 08. desember og foregår på engelsk. Les mer og meld deg på her: \nNordic webinar on drones
URL:https://geoforum.no/event/nordisk-webinar-om-droner/
CATEGORIES:Webinar eksternt
END:VEVENT
END:VCALENDAR